BEGIN:VCALENDAR
VERSION:2.0
PRODID:-//Diver City SCUBA Inc. - ECPv6.15.20//NONSGML v1.0//EN
CALSCALE:GREGORIAN
METHOD:PUBLISH
X-ORIGINAL-URL:https://divercityscuba.ca
X-WR-CALDESC:Events for Diver City SCUBA Inc.
REFRESH-INTERVAL;VALUE=DURATION:PT1H
X-Robots-Tag:noindex
X-PUBLISHED-TTL:PT1H
BEGIN:VTIMEZONE
TZID:America/Winnipeg
BEGIN:DAYLIGHT
TZOFFSETFROM:-0600
TZOFFSETTO:-0500
TZNAME:CDT
DTSTART:20240310T080000
END:DAYLIGHT
BEGIN:STANDARD
TZOFFSETFROM:-0500
TZOFFSETTO:-0600
TZNAME:CST
DTSTART:20241103T070000
END:STANDARD
BEGIN:DAYLIGHT
TZOFFSETFROM:-0600
TZOFFSETTO:-0500
TZNAME:CDT
DTSTART:20250309T080000
END:DAYLIGHT
BEGIN:STANDARD
TZOFFSETFROM:-0500
TZOFFSETTO:-0600
TZNAME:CST
DTSTART:20251102T070000
END:STANDARD
BEGIN:DAYLIGHT
TZOFFSETFROM:-0600
TZOFFSETTO:-0500
TZNAME:CDT
DTSTART:20260308T080000
END:DAYLIGHT
BEGIN:STANDARD
TZOFFSETFROM:-0500
TZOFFSETTO:-0600
TZNAME:CST
DTSTART:20261101T070000
END:STANDARD
END:VTIMEZONE
BEGIN:VEVENT
DTSTART;TZID=America/Winnipeg:20250407T190000
DTEND;TZID=America/Winnipeg:20250407T210000
DTSTAMP:20260422T172131
CREATED:20241115T185331Z
LAST-MODIFIED:20241217T233838Z
UID:10002541-1744052400-1744059600@divercityscuba.ca
SUMMARY:Pool Session
DESCRIPTION:Discover Scuba Diving – Register here \nOpen Water Course – Register here \nScuba Refresher – Register here \nReActivate – Register here \nSnorkeling – Register here \nPre-registration is required.
URL:https://divercityscuba.ca/event/pool-session-381/
LOCATION:Pan Am Pool\, 25 Poseidon Bay
END:VEVENT
BEGIN:VEVENT
DTSTART;TZID=America/Winnipeg:20250414T190000
DTEND;TZID=America/Winnipeg:20250414T210000
DTSTAMP:20260422T172131
CREATED:20241115T185459Z
LAST-MODIFIED:20241217T233659Z
UID:10002542-1744657200-1744664400@divercityscuba.ca
SUMMARY:Pool Session
DESCRIPTION:Discover Scuba Diving – Register here \nOpen Water Course – Register here \nScuba Refresher – Register here \nReActivate – Register here \nSnorkeling – Register here \nPre-registration is required.
URL:https://divercityscuba.ca/event/pool-session-382/
LOCATION:Pan Am Pool\, 25 Poseidon Bay
END:VEVENT
BEGIN:VEVENT
DTSTART;TZID=America/Winnipeg:20250423T190000
DTEND;TZID=America/Winnipeg:20250423T210000
DTSTAMP:20260422T172131
CREATED:20241115T185813Z
LAST-MODIFIED:20241217T233517Z
UID:10002543-1745434800-1745442000@divercityscuba.ca
SUMMARY:Pool Session
DESCRIPTION:Discover Scuba Diving – Register here \nOpen Water Course – Register here \nScuba Refresher – Register here \nReActivate – Register here \nSnorkeling – Register here \nPre-registration is required.
URL:https://divercityscuba.ca/event/pool-session-383/
LOCATION:Cindy Klassen Rec Centre\, 999 Sargent Ave\, Winnipeg
END:VEVENT
BEGIN:VEVENT
DTSTART;TZID=America/Winnipeg:20250428T190000
DTEND;TZID=America/Winnipeg:20250428T210000
DTSTAMP:20260422T172131
CREATED:20241115T190036Z
LAST-MODIFIED:20241217T233404Z
UID:10002544-1745866800-1745874000@divercityscuba.ca
SUMMARY:Pool Session
DESCRIPTION:Discover Scuba Diving – Register here \nOpen Water Course – Register here \nScuba Refresher – Register here \nReActivate – Register here \nSnorkeling – Register here \nPre-registration is required.
URL:https://divercityscuba.ca/event/pool-session-384/
LOCATION:Pan Am Pool\, 25 Poseidon Bay
END:VEVENT
END:VCALENDAR