BEGIN:VCALENDAR
VERSION:2.0
PRODID:-//Diver City SCUBA Inc. - ECPv6.15.20//NONSGML v1.0//EN
CALSCALE:GREGORIAN
METHOD:PUBLISH
X-ORIGINAL-URL:https://divercityscuba.ca
X-WR-CALDESC:Events for Diver City SCUBA Inc.
REFRESH-INTERVAL;VALUE=DURATION:PT1H
X-Robots-Tag:noindex
X-PUBLISHED-TTL:PT1H
BEGIN:VTIMEZONE
TZID:America/Winnipeg
BEGIN:DAYLIGHT
TZOFFSETFROM:-0600
TZOFFSETTO:-0500
TZNAME:CDT
DTSTART:20240310T080000
END:DAYLIGHT
BEGIN:STANDARD
TZOFFSETFROM:-0500
TZOFFSETTO:-0600
TZNAME:CST
DTSTART:20241103T070000
END:STANDARD
BEGIN:DAYLIGHT
TZOFFSETFROM:-0600
TZOFFSETTO:-0500
TZNAME:CDT
DTSTART:20250309T080000
END:DAYLIGHT
BEGIN:STANDARD
TZOFFSETFROM:-0500
TZOFFSETTO:-0600
TZNAME:CST
DTSTART:20251102T070000
END:STANDARD
BEGIN:DAYLIGHT
TZOFFSETFROM:-0600
TZOFFSETTO:-0500
TZNAME:CDT
DTSTART:20260308T080000
END:DAYLIGHT
BEGIN:STANDARD
TZOFFSETFROM:-0500
TZOFFSETTO:-0600
TZNAME:CST
DTSTART:20261101T070000
END:STANDARD
END:VTIMEZONE
BEGIN:VEVENT
DTSTART;TZID=America/Winnipeg:20250303T190000
DTEND;TZID=America/Winnipeg:20250303T210000
DTSTAMP:20260422T201556
CREATED:20241115T184442Z
LAST-MODIFIED:20250210T191058Z
UID:10002536-1741028400-1741035600@divercityscuba.ca
SUMMARY:Pool Session
DESCRIPTION:Discover Scuba Diving – Register here \nOpen Water Course – Register here \nScuba Refresher – Register here \nReActivate – Register here \nSnorkeling – Register here \nPre-registration is required.
URL:https://divercityscuba.ca/event/pool-session-376/
LOCATION:Pan Am Pool\, 25 Poseidon Bay
END:VEVENT
BEGIN:VEVENT
DTSTART;TZID=America/Winnipeg:20250310T190000
DTEND;TZID=America/Winnipeg:20250310T210000
DTSTAMP:20260422T201556
CREATED:20241115T184549Z
LAST-MODIFIED:20241217T234606Z
UID:10002537-1741633200-1741640400@divercityscuba.ca
SUMMARY:Pool Session
DESCRIPTION:Discover Scuba Diving – Register here \nOpen Water Course – Register here \nScuba Refresher – Register here \nReActivate – Register here \nSnorkeling – Register here \nPre-registration is required.
URL:https://divercityscuba.ca/event/pool-session-377/
LOCATION:Pan Am Pool\, 25 Poseidon Bay
END:VEVENT
BEGIN:VEVENT
DTSTART;TZID=America/Winnipeg:20250317T190000
DTEND;TZID=America/Winnipeg:20250317T210000
DTSTAMP:20260422T201556
CREATED:20241115T184959Z
LAST-MODIFIED:20241217T234452Z
UID:10002538-1742238000-1742245200@divercityscuba.ca
SUMMARY:Pool Session
DESCRIPTION:Discover Scuba Diving – Register here \nOpen Water Course – Register here \nScuba Refresher – Register here \nReActivate – Register here \nSnorkeling – Register here \nPre-registration is required.
URL:https://divercityscuba.ca/event/pool-session-378/
LOCATION:Pan Am Pool\, 25 Poseidon Bay
END:VEVENT
BEGIN:VEVENT
DTSTART;TZID=America/Winnipeg:20250324T190000
DTEND;TZID=America/Winnipeg:20250324T210000
DTSTAMP:20260422T201556
CREATED:20241115T185054Z
LAST-MODIFIED:20241217T234310Z
UID:10002539-1742842800-1742850000@divercityscuba.ca
SUMMARY:Pool Session
DESCRIPTION:Discover Scuba Diving – Register here \nOpen Water Course – Register here \nScuba Refresher – Register here \nReActivate – Register here \nSnorkeling – Register here \nPre-registration is required.
URL:https://divercityscuba.ca/event/pool-session-379/
LOCATION:Pan Am Pool\, 25 Poseidon Bay
END:VEVENT
BEGIN:VEVENT
DTSTART;TZID=America/Winnipeg:20250331T190000
DTEND;TZID=America/Winnipeg:20250331T210000
DTSTAMP:20260422T201556
CREATED:20241115T185154Z
LAST-MODIFIED:20241217T234143Z
UID:10002540-1743447600-1743454800@divercityscuba.ca
SUMMARY:Pool Session
DESCRIPTION:Discover Scuba Diving – Register here \nOpen Water Course – Register here \nScuba Refresher – Register here \nReActivate – Register here \nSnorkeling – Register here \nPre-registration is required.
URL:https://divercityscuba.ca/event/pool-session-380/
LOCATION:Pan Am Pool\, 25 Poseidon Bay
END:VEVENT
END:VCALENDAR