BEGIN:VCALENDAR
VERSION:2.0
PRODID:-//Diver City SCUBA Inc. - ECPv6.15.20//NONSGML v1.0//EN
CALSCALE:GREGORIAN
METHOD:PUBLISH
X-WR-CALNAME:Diver City SCUBA Inc.
X-ORIGINAL-URL:https://divercityscuba.ca
X-WR-CALDESC:Events for Diver City SCUBA Inc.
REFRESH-INTERVAL;VALUE=DURATION:PT1H
X-Robots-Tag:noindex
X-PUBLISHED-TTL:PT1H
BEGIN:VTIMEZONE
TZID:America/Winnipeg
BEGIN:DAYLIGHT
TZOFFSETFROM:-0600
TZOFFSETTO:-0500
TZNAME:CDT
DTSTART:20230312T080000
END:DAYLIGHT
BEGIN:STANDARD
TZOFFSETFROM:-0500
TZOFFSETTO:-0600
TZNAME:CST
DTSTART:20231105T070000
END:STANDARD
BEGIN:DAYLIGHT
TZOFFSETFROM:-0600
TZOFFSETTO:-0500
TZNAME:CDT
DTSTART:20240310T080000
END:DAYLIGHT
BEGIN:STANDARD
TZOFFSETFROM:-0500
TZOFFSETTO:-0600
TZNAME:CST
DTSTART:20241103T070000
END:STANDARD
BEGIN:DAYLIGHT
TZOFFSETFROM:-0600
TZOFFSETTO:-0500
TZNAME:CDT
DTSTART:20250309T080000
END:DAYLIGHT
BEGIN:STANDARD
TZOFFSETFROM:-0500
TZOFFSETTO:-0600
TZNAME:CST
DTSTART:20251102T070000
END:STANDARD
END:VTIMEZONE
BEGIN:VEVENT
DTSTART;TZID=America/Winnipeg:20240731T190000
DTEND;TZID=America/Winnipeg:20240731T213000
DTSTAMP:20260425T102558
CREATED:20240607T210239Z
LAST-MODIFIED:20240607T210239Z
UID:10002461-1722452400-1722461400@divercityscuba.ca
SUMMARY:Pool Session
DESCRIPTION:Pre-registration is required.
URL:https://divercityscuba.ca/event/pool-session-338/
LOCATION:Cindy Klassen Rec Centre\, 999 Sargent Ave\, Winnipeg
CATEGORIES:Courses,Fun events
END:VEVENT
BEGIN:VEVENT
DTSTART;TZID=America/Winnipeg:20240729T190000
DTEND;TZID=America/Winnipeg:20240729T213000
DTSTAMP:20260425T102558
CREATED:20240607T210126Z
LAST-MODIFIED:20240607T210126Z
UID:10002460-1722279600-1722288600@divercityscuba.ca
SUMMARY:Pool Session
DESCRIPTION:Pre-registration is required.
URL:https://divercityscuba.ca/event/pool-session-337/
LOCATION:Pan Am Pool\, 25 Poseidon Bay
CATEGORIES:Courses,Fun events
END:VEVENT
BEGIN:VEVENT
DTSTART;VALUE=DATE:20240727
DTEND;VALUE=DATE:20240729
DTSTAMP:20260425T102558
CREATED:20240726T151419Z
LAST-MODIFIED:20240726T151419Z
UID:10002465-1722038400-1722211199@divercityscuba.ca
SUMMARY:West Hawk Lake Training
DESCRIPTION:Pre-registration is required. \n  \nOpen Water Dives July 27-28
URL:https://divercityscuba.ca/event/west-hawk-lake-training-11/
LOCATION:West Hawk Lake
CATEGORIES:Courses
END:VEVENT
BEGIN:VEVENT
DTSTART;TZID=America/Winnipeg:20240724T190000
DTEND;TZID=America/Winnipeg:20240724T213000
DTSTAMP:20260425T102558
CREATED:20240607T210015Z
LAST-MODIFIED:20240607T210015Z
UID:10002459-1721847600-1721856600@divercityscuba.ca
SUMMARY:Pool Session
DESCRIPTION:Pre-registration is required.
URL:https://divercityscuba.ca/event/pool-session-336/
LOCATION:Cindy Klassen Rec Centre\, 999 Sargent Ave\, Winnipeg
CATEGORIES:Courses,Fun events
END:VEVENT
BEGIN:VEVENT
DTSTART;TZID=America/Winnipeg:20240722T190000
DTEND;TZID=America/Winnipeg:20240722T213000
DTSTAMP:20260425T102559
CREATED:20240607T204829Z
LAST-MODIFIED:20240607T204829Z
UID:10002458-1721674800-1721683800@divercityscuba.ca
SUMMARY:Pool Session
DESCRIPTION:Pre-registration is required.
URL:https://divercityscuba.ca/event/pool-session-335/
LOCATION:Pan Am Pool\, 25 Poseidon Bay
CATEGORIES:Courses,Fun events
END:VEVENT
BEGIN:VEVENT
DTSTART;TZID=America/Winnipeg:20240717T190000
DTEND;TZID=America/Winnipeg:20240717T210000
DTSTAMP:20260425T102559
CREATED:20240607T204547Z
LAST-MODIFIED:20240607T204547Z
UID:10002457-1721242800-1721250000@divercityscuba.ca
SUMMARY:Pool Session
DESCRIPTION:Pre-registration is required.
URL:https://divercityscuba.ca/event/pool-session-334/
LOCATION:Cindy Klassen Rec Centre\, 999 Sargent Ave\, Winnipeg
CATEGORIES:Courses,Fun events
END:VEVENT
BEGIN:VEVENT
DTSTART;TZID=America/Winnipeg:20240716T180000
DTEND;TZID=America/Winnipeg:20240716T210000
DTSTAMP:20260425T102559
CREATED:20240628T155216Z
LAST-MODIFIED:20240628T155216Z
UID:10002464-1721152800-1721163600@divercityscuba.ca
SUMMARY:Meet and Greet BBQ
DESCRIPTION:Come and join us from 6-9 PM at Diver City for a hot dog BBQ\, and an opportunity to make some new dive buddies. \nOpen to all!
URL:https://divercityscuba.ca/event/meet-and-greet-bbq-5/
LOCATION:Diver City Scuba\, 731 St. Mary's Rd\, Winnipeg\, MB\, Canada
CATEGORIES:Fun events
END:VEVENT
BEGIN:VEVENT
DTSTART;TZID=America/Winnipeg:20240715T190000
DTEND;TZID=America/Winnipeg:20240715T213000
DTSTAMP:20260425T102559
CREATED:20240607T204308Z
LAST-MODIFIED:20240607T204308Z
UID:10002456-1721070000-1721079000@divercityscuba.ca
SUMMARY:Pool Session
DESCRIPTION:Pre-registration is required.
URL:https://divercityscuba.ca/event/pool-session-333/
LOCATION:Pan Am Pool\, 25 Poseidon Bay
CATEGORIES:Courses,Fun events
END:VEVENT
BEGIN:VEVENT
DTSTART;TZID=America/Winnipeg:20240714T090000
DTEND;TZID=America/Winnipeg:20240714T150000
DTSTAMP:20260425T102559
CREATED:20240429T203941Z
LAST-MODIFIED:20240528T203552Z
UID:10002443-1720947600-1720969200@divercityscuba.ca
SUMMARY:Women's Dive Day
DESCRIPTION:We will celebrate PADI’s 10th annual Women’s dive day at West Hawk Lake. Everyone welcome.
URL:https://divercityscuba.ca/event/womens-dive-day-3/
CATEGORIES:Fun events
END:VEVENT
BEGIN:VEVENT
DTSTART;TZID=America/Winnipeg:20240713T090000
DTEND;TZID=America/Winnipeg:20240714T140000
DTSTAMP:20260425T102559
CREATED:20240607T210850Z
LAST-MODIFIED:20240607T210850Z
UID:10002462-1720861200-1720965600@divercityscuba.ca
SUMMARY:West Hawk Lake Training Weekend
DESCRIPTION:Advanced Open Water \nDrysuit Diver
URL:https://divercityscuba.ca/event/west-hawk-lake-training-weekend-6/
LOCATION:West Hawk Lake
CATEGORIES:Courses
END:VEVENT
BEGIN:VEVENT
DTSTART;TZID=America/Winnipeg:20240710T190000
DTEND;TZID=America/Winnipeg:20240710T210000
DTSTAMP:20260425T102559
CREATED:20240607T203818Z
LAST-MODIFIED:20240607T203818Z
UID:10002455-1720638000-1720645200@divercityscuba.ca
SUMMARY:Pool Session
DESCRIPTION:Pre-registration is required.
URL:https://divercityscuba.ca/event/pool-session-332/
LOCATION:Cindy Klassen Rec Centre\, 999 Sargent Ave\, Winnipeg
CATEGORIES:Courses,Fun events
END:VEVENT
BEGIN:VEVENT
DTSTART;TZID=America/Winnipeg:20240708T190000
DTEND;TZID=America/Winnipeg:20240708T213000
DTSTAMP:20260425T102559
CREATED:20240607T203657Z
LAST-MODIFIED:20240607T203657Z
UID:10002454-1720465200-1720474200@divercityscuba.ca
SUMMARY:Pool Session
DESCRIPTION:Pre-registration is required.
URL:https://divercityscuba.ca/event/pool-session-331/
LOCATION:Pan Am Pool\, 25 Poseidon Bay
CATEGORIES:Courses,Fun events
END:VEVENT
BEGIN:VEVENT
DTSTART;TZID=America/Winnipeg:20240706T090000
DTEND;TZID=America/Winnipeg:20240707T150000
DTSTAMP:20260425T102559
CREATED:20240528T202600Z
LAST-MODIFIED:20240528T203732Z
UID:10002451-1720256400-1720364400@divercityscuba.ca
SUMMARY:West Hawk Lake Training Weekend
DESCRIPTION:Pre-registration Required. \nOpen Water Certification dives \nDrysuit Diver Course
URL:https://divercityscuba.ca/event/west-hawk-lake-training-weekend-4/
LOCATION:West Hawk Lake
CATEGORIES:Courses
END:VEVENT
BEGIN:VEVENT
DTSTART;TZID=America/Winnipeg:20240703T190000
DTEND;TZID=America/Winnipeg:20240703T210000
DTSTAMP:20260425T102559
CREATED:20240607T202342Z
LAST-MODIFIED:20240607T202342Z
UID:10002453-1720033200-1720040400@divercityscuba.ca
SUMMARY:Pool Session
DESCRIPTION:Pre-registration is required.
URL:https://divercityscuba.ca/event/pool-session-330/
LOCATION:Cindy Klassen Rec Centre\, 999 Sargent Ave\, Winnipeg
CATEGORIES:Courses,Fun events
END:VEVENT
BEGIN:VEVENT
DTSTART;VALUE=DATE:20240701
DTEND;VALUE=DATE:20240702
DTSTAMP:20260425T102559
CREATED:20240205T210621Z
LAST-MODIFIED:20240205T210621Z
UID:10002402-1719792000-1719878399@divercityscuba.ca
SUMMARY:Shop Closed
DESCRIPTION:We will be closed for Canada Day
URL:https://divercityscuba.ca/event/shop-closed-58/
END:VEVENT
BEGIN:VEVENT
DTSTART;TZID=America/Winnipeg:20240629T090000
DTEND;TZID=America/Winnipeg:20240630T150000
DTSTAMP:20260425T102559
CREATED:20240528T193712Z
LAST-MODIFIED:20240528T204211Z
UID:10002448-1719651600-1719759600@divercityscuba.ca
SUMMARY:West Hawk Lake Training Weekend
DESCRIPTION:Pre-registration Required. \nSidemount Diver Course
URL:https://divercityscuba.ca/event/west-hawk-lake-training-weekend-3/
LOCATION:West Hawk Lake
CATEGORIES:Courses
END:VEVENT
BEGIN:VEVENT
DTSTART;TZID=America/Winnipeg:20240626T190000
DTEND;TZID=America/Winnipeg:20240626T210000
DTSTAMP:20260425T102559
CREATED:20240429T203407Z
LAST-MODIFIED:20240528T193217Z
UID:10002439-1719428400-1719435600@divercityscuba.ca
SUMMARY:Pool Session
DESCRIPTION:Pre-registration is required
URL:https://divercityscuba.ca/event/pool-session-326/
LOCATION:Cindy Klassen Rec Centre\, 999 Sargent Ave\, Winnipeg
CATEGORIES:Courses,Fun events
END:VEVENT
BEGIN:VEVENT
DTSTART;TZID=America/Winnipeg:20240623T090000
DTEND;TZID=America/Winnipeg:20240623T150000
DTSTAMP:20260425T102559
CREATED:20240429T203821Z
LAST-MODIFIED:20240528T204134Z
UID:10002442-1719133200-1719154800@divercityscuba.ca
SUMMARY:Fun Dive and BBQ
DESCRIPTION:Join us at West Hawk Lake’s Cats Ass dive site for a fun day of diving and a hot dog (or veggie dog) BBQ. \nPlease pre-register\, so we know how many to expect.
URL:https://divercityscuba.ca/event/fun-dive-and-bbq/
LOCATION:West Hawk Lake
CATEGORIES:Fun events
END:VEVENT
BEGIN:VEVENT
DTSTART;TZID=America/Winnipeg:20240620T180000
DTEND;TZID=America/Winnipeg:20240620T210000
DTSTAMP:20260425T102559
CREATED:20240425T231545Z
LAST-MODIFIED:20240425T231545Z
UID:10002431-1718906400-1718917200@divercityscuba.ca
SUMMARY:BBQ and Open House at Diver City
DESCRIPTION:Join us for a BBQ and meet fellow local divers. Everyone is welcome!
URL:https://divercityscuba.ca/event/bbq-and-open-house-at-diver-city/
LOCATION:Diver City Scuba\, 731 St. Mary's Rd\, Winnipeg\, MB\, Canada
CATEGORIES:Fun events
END:VEVENT
BEGIN:VEVENT
DTSTART;TZID=America/Winnipeg:20240619T190000
DTEND;TZID=America/Winnipeg:20240619T210000
DTSTAMP:20260425T102559
CREATED:20240528T195612Z
LAST-MODIFIED:20240528T195612Z
UID:10002449-1718823600-1718830800@divercityscuba.ca
SUMMARY:Pool Session
DESCRIPTION:Pre-registration is required
URL:https://divercityscuba.ca/event/pool-session-329/
LOCATION:Cindy Klassen Rec Centre\, 999 Sargent Ave\, Winnipeg
CATEGORIES:Courses,Fun events
END:VEVENT
BEGIN:VEVENT
DTSTART;TZID=America/Winnipeg:20240617T190000
DTEND;TZID=America/Winnipeg:20240617T213000
DTSTAMP:20260425T102559
CREATED:20240429T203335Z
LAST-MODIFIED:20240429T203335Z
UID:10002438-1718650800-1718659800@divercityscuba.ca
SUMMARY:Pool Session
DESCRIPTION:Pre-registration is required
URL:https://divercityscuba.ca/event/pool-session-323/
LOCATION:Pan Am Pool\, 25 Poseidon Bay
CATEGORIES:Courses,Fun events
END:VEVENT
BEGIN:VEVENT
DTSTART;TZID=America/Winnipeg:20240615T090000
DTEND;TZID=America/Winnipeg:20240616T150000
DTSTAMP:20260425T102559
CREATED:20240528T193308Z
LAST-MODIFIED:20240528T204005Z
UID:10002446-1718442000-1718550000@divercityscuba.ca
SUMMARY:West Hawk Lake Training Weekend
DESCRIPTION:Pre-registration Required. \nOpen Water Diver certification dives \nAdvanced Open Water Diver Course \nDrysuit Diver Course
URL:https://divercityscuba.ca/event/west-hawk-lake-training-weekend-copy-copy/
LOCATION:West Hawk Lake
CATEGORIES:Courses
END:VEVENT
BEGIN:VEVENT
DTSTART;TZID=America/Winnipeg:20240613T180000
DTEND;TZID=America/Winnipeg:20240613T200000
DTSTAMP:20260425T102559
CREATED:20240528T203524Z
LAST-MODIFIED:20240528T203524Z
UID:10002452-1718301600-1718308800@divercityscuba.ca
SUMMARY:Emergency Oxygen Provider course
DESCRIPTION:Pre Registration required
URL:https://divercityscuba.ca/event/emergency-oxygen-provider-course-2/
LOCATION:Diver City Scuba\, 731 St. Mary's Rd\, Winnipeg\, MB\, Canada
END:VEVENT
BEGIN:VEVENT
DTSTART;TZID=America/Winnipeg:20240612T190000
DTEND;TZID=America/Winnipeg:20240612T210000
DTSTAMP:20260425T102559
CREATED:20240429T203625Z
LAST-MODIFIED:20240429T203625Z
UID:10002441-1718218800-1718226000@divercityscuba.ca
SUMMARY:Pool Session
DESCRIPTION:Pre-registration is required
URL:https://divercityscuba.ca/event/pool-session-328/
LOCATION:Cindy Klassen Rec Centre\, 999 Sargent Ave\, Winnipeg
CATEGORIES:Courses,Fun events
END:VEVENT
BEGIN:VEVENT
DTSTART;TZID=America/Winnipeg:20240610T190000
DTEND;TZID=America/Winnipeg:20240610T213000
DTSTAMP:20260425T102559
CREATED:20240429T203257Z
LAST-MODIFIED:20240607T210419Z
UID:10002437-1718046000-1718055000@divercityscuba.ca
SUMMARY:Pool Session
DESCRIPTION:Pre-registration is required
URL:https://divercityscuba.ca/event/pool-session-321/
LOCATION:Pan Am Pool\, 25 Poseidon Bay
CATEGORIES:Courses,Fun events
END:VEVENT
BEGIN:VEVENT
DTSTART;TZID=America/Winnipeg:20240608T090000
DTEND;TZID=America/Winnipeg:20240609T150000
DTSTAMP:20260425T102559
CREATED:20240528T193118Z
LAST-MODIFIED:20240528T203914Z
UID:10002445-1717837200-1717945200@divercityscuba.ca
SUMMARY:West Hawk Lake Training Weekend
DESCRIPTION:Pre-registration Required. \nOpen Water Diver certification dives \nRescue Diver Course \nEmergency Oxygen Provider
URL:https://divercityscuba.ca/event/west-hawk-lake-training-weekend-copy/
LOCATION:West Hawk Lake
CATEGORIES:Courses
END:VEVENT
BEGIN:VEVENT
DTSTART;TZID=America/Winnipeg:20240605T190000
DTEND;TZID=America/Winnipeg:20240605T210000
DTSTAMP:20260425T102559
CREATED:20240429T203510Z
LAST-MODIFIED:20240429T203510Z
UID:10002440-1717614000-1717621200@divercityscuba.ca
SUMMARY:Pool Session
DESCRIPTION:Pre-registration is required
URL:https://divercityscuba.ca/event/pool-session-327/
LOCATION:Cindy Klassen Rec Centre\, 999 Sargent Ave\, Winnipeg
CATEGORIES:Courses,Fun events
END:VEVENT
BEGIN:VEVENT
DTSTART;TZID=America/Winnipeg:20240603T190000
DTEND;TZID=America/Winnipeg:20240603T213000
DTSTAMP:20260425T102559
CREATED:20240429T203029Z
LAST-MODIFIED:20240429T203110Z
UID:10002436-1717441200-1717450200@divercityscuba.ca
SUMMARY:Pool Session
DESCRIPTION:Pre-registration is required
URL:https://divercityscuba.ca/event/pool-session-copy/
LOCATION:Pan Am Pool\, 25 Poseidon Bay
CATEGORIES:Courses,Fun events
END:VEVENT
BEGIN:VEVENT
DTSTART;TZID=America/Winnipeg:20240601T090000
DTEND;TZID=America/Winnipeg:20240602T150000
DTSTAMP:20260425T102559
CREATED:20240528T192718Z
LAST-MODIFIED:20240528T203823Z
UID:10002444-1717232400-1717340400@divercityscuba.ca
SUMMARY:West Hawk Lake Training Weekend
DESCRIPTION:Pre-registration Required. \nOpen Water Diver certification dives
URL:https://divercityscuba.ca/event/west-hawk-lake-training-weekend-2/
LOCATION:West Hawk Lake
CATEGORIES:Courses
END:VEVENT
BEGIN:VEVENT
DTSTART;VALUE=DATE:20240528
DTEND;VALUE=DATE:20240529
DTSTAMP:20260425T102559
CREATED:20240528T193426Z
LAST-MODIFIED:20240528T193426Z
UID:10002447-1716854400-1716940799@divercityscuba.ca
SUMMARY:Closed Early @ 6pm
DESCRIPTION:We will be open from 10-6pm.
URL:https://divercityscuba.ca/event/closed-early-6pm/
LOCATION:Diver City Scuba\, 731 St. Mary's Rd\, Winnipeg\, MB\, Canada
END:VEVENT
END:VCALENDAR