BEGIN:VCALENDAR
VERSION:2.0
PRODID:-//Diver City SCUBA Inc. - ECPv6.15.20//NONSGML v1.0//EN
CALSCALE:GREGORIAN
METHOD:PUBLISH
X-WR-CALNAME:Diver City SCUBA Inc.
X-ORIGINAL-URL:https://divercityscuba.ca
X-WR-CALDESC:Events for Diver City SCUBA Inc.
REFRESH-INTERVAL;VALUE=DURATION:PT1H
X-Robots-Tag:noindex
X-PUBLISHED-TTL:PT1H
BEGIN:VTIMEZONE
TZID:America/Winnipeg
BEGIN:DAYLIGHT
TZOFFSETFROM:-0600
TZOFFSETTO:-0500
TZNAME:CDT
DTSTART:20230312T080000
END:DAYLIGHT
BEGIN:STANDARD
TZOFFSETFROM:-0500
TZOFFSETTO:-0600
TZNAME:CST
DTSTART:20231105T070000
END:STANDARD
BEGIN:DAYLIGHT
TZOFFSETFROM:-0600
TZOFFSETTO:-0500
TZNAME:CDT
DTSTART:20240310T080000
END:DAYLIGHT
BEGIN:STANDARD
TZOFFSETFROM:-0500
TZOFFSETTO:-0600
TZNAME:CST
DTSTART:20241103T070000
END:STANDARD
BEGIN:DAYLIGHT
TZOFFSETFROM:-0600
TZOFFSETTO:-0500
TZNAME:CDT
DTSTART:20250309T080000
END:DAYLIGHT
BEGIN:STANDARD
TZOFFSETFROM:-0500
TZOFFSETTO:-0600
TZNAME:CST
DTSTART:20251102T070000
END:STANDARD
END:VTIMEZONE
BEGIN:VEVENT
DTSTART;VALUE=DATE:20240914
DTEND;VALUE=DATE:20240916
DTSTAMP:20260419T115615
CREATED:20240816T181306Z
LAST-MODIFIED:20240816T181306Z
UID:10002488-1726272000-1726444799@divercityscuba.ca
SUMMARY:West Hawk Lake Training
DESCRIPTION:Pre-registration is required. \nRescue Course – Register Here
URL:https://divercityscuba.ca/event/west-hawk-lake-training-16/
LOCATION:West Hawk Lake
CATEGORIES:Courses,Fun events
END:VEVENT
BEGIN:VEVENT
DTSTART;TZID=America/Winnipeg:20240911T190000
DTEND;TZID=America/Winnipeg:20240911T210000
DTSTAMP:20260419T115615
CREATED:20240816T175120Z
LAST-MODIFIED:20240816T175120Z
UID:10002482-1726081200-1726088400@divercityscuba.ca
SUMMARY:Pool Session
DESCRIPTION:Pre-registration is required.
URL:https://divercityscuba.ca/event/pool-session-348/
LOCATION:Cindy Klassen Rec Centre\, 999 Sargent Ave\, Winnipeg
CATEGORIES:Courses,Fun events
END:VEVENT
BEGIN:VEVENT
DTSTART;TZID=America/Winnipeg:20240909T190000
DTEND;TZID=America/Winnipeg:20240909T210000
DTSTAMP:20260419T115615
CREATED:20240816T175008Z
LAST-MODIFIED:20240816T175346Z
UID:10002481-1725908400-1725915600@divercityscuba.ca
SUMMARY:Pool Session
DESCRIPTION:Pre-registration is required.
URL:https://divercityscuba.ca/event/pool-session-347/
LOCATION:Pan Am Pool\, 25 Poseidon Bay
CATEGORIES:Courses,Fun events
END:VEVENT
BEGIN:VEVENT
DTSTART;VALUE=DATE:20240907
DTEND;VALUE=DATE:20240909
DTSTAMP:20260419T115615
CREATED:20240816T181107Z
LAST-MODIFIED:20240816T181107Z
UID:10002487-1725667200-1725839999@divercityscuba.ca
SUMMARY:West Hawk Lake Training
DESCRIPTION:Pre-registration is required. \nOpen Water Dives (must complete pool sessions first)
URL:https://divercityscuba.ca/event/west-hawk-lake-training-15/
LOCATION:West Hawk Lake
CATEGORIES:Courses,Fun events
END:VEVENT
BEGIN:VEVENT
DTSTART;TZID=America/Winnipeg:20240904T190000
DTEND;TZID=America/Winnipeg:20240904T210000
DTSTAMP:20260419T115615
CREATED:20240816T172708Z
LAST-MODIFIED:20240816T172708Z
UID:10002480-1725476400-1725483600@divercityscuba.ca
SUMMARY:Pool Session
DESCRIPTION:Pre-registration is required.
URL:https://divercityscuba.ca/event/pool-session-346/
LOCATION:Cindy Klassen Rec Centre\, 999 Sargent Ave\, Winnipeg
CATEGORIES:Courses,Fun events
END:VEVENT
BEGIN:VEVENT
DTSTART;VALUE=DATE:20240902
DTEND;VALUE=DATE:20240903
DTSTAMP:20260419T115615
CREATED:20240205T210709Z
LAST-MODIFIED:20240205T210709Z
UID:10002404-1725235200-1725321599@divercityscuba.ca
SUMMARY:Shop Closed
DESCRIPTION:
URL:https://divercityscuba.ca/event/shop-closed-60/
END:VEVENT
BEGIN:VEVENT
DTSTART;TZID=America/Winnipeg:20240828T190000
DTEND;TZID=America/Winnipeg:20240828T210000
DTSTAMP:20260419T115615
CREATED:20240726T162120Z
LAST-MODIFIED:20240726T162120Z
UID:10002475-1724871600-1724878800@divercityscuba.ca
SUMMARY:Pool Session
DESCRIPTION:Pre-registration is required.
URL:https://divercityscuba.ca/event/pool-session-345/
LOCATION:Cindy Klassen Rec Centre\, 999 Sargent Ave\, Winnipeg
CATEGORIES:Courses,Fun events
END:VEVENT
BEGIN:VEVENT
DTSTART;TZID=America/Winnipeg:20240826T190000
DTEND;TZID=America/Winnipeg:20240826T210000
DTSTAMP:20260419T115615
CREATED:20240726T162016Z
LAST-MODIFIED:20240726T162016Z
UID:10002474-1724698800-1724706000@divercityscuba.ca
SUMMARY:Pool Session
DESCRIPTION:Pre-registration is required.
URL:https://divercityscuba.ca/event/pool-session-344/
LOCATION:Pan Am Pool\, 25 Poseidon Bay
CATEGORIES:Courses,Fun events
END:VEVENT
BEGIN:VEVENT
DTSTART;VALUE=DATE:20240824
DTEND;VALUE=DATE:20240826
DTSTAMP:20260419T115615
CREATED:20240726T154951Z
LAST-MODIFIED:20240726T154951Z
UID:10002468-1724457600-1724630399@divercityscuba.ca
SUMMARY:West Hawk Lake Training
DESCRIPTION:Advanced Open Water – Register Here \nOpen Water Dives (after completion of pool sessions) – Register Here \nDrysuit – Register Here
URL:https://divercityscuba.ca/event/west-hawk-lake-training-14/
LOCATION:West Hawk Lake
CATEGORIES:Courses
END:VEVENT
BEGIN:VEVENT
DTSTART;TZID=America/Winnipeg:20240822T120000
DTEND;TZID=America/Winnipeg:20240822T200000
DTSTAMP:20260419T115615
CREATED:20240816T172531Z
LAST-MODIFIED:20240816T172531Z
UID:10002479-1724328000-1724356800@divercityscuba.ca
SUMMARY:Opening Late
DESCRIPTION:We will be open from 12-8pm on Thursday\, August 22nd.
URL:https://divercityscuba.ca/event/opening-late/
LOCATION:Diver City Scuba\, 731 St. Mary's Rd\, Winnipeg\, MB\, Canada
END:VEVENT
BEGIN:VEVENT
DTSTART;TZID=America/Winnipeg:20240821T190000
DTEND;TZID=America/Winnipeg:20240821T210000
DTSTAMP:20260419T115615
CREATED:20240726T161831Z
LAST-MODIFIED:20240726T161831Z
UID:10002473-1724266800-1724274000@divercityscuba.ca
SUMMARY:Pool Session
DESCRIPTION:Pre-registration is required. \nDrysuit Orientation – Register Here
URL:https://divercityscuba.ca/event/pool-session-343/
LOCATION:Cindy Klassen Rec Centre\, 999 Sargent Ave\, Winnipeg
CATEGORIES:Courses,Fun events
END:VEVENT
BEGIN:VEVENT
DTSTART;VALUE=DATE:20240820
DTEND;VALUE=DATE:20240824
DTSTAMP:20260419T115615
CREATED:20240726T162446Z
LAST-MODIFIED:20240726T163615Z
UID:10002476-1724112000-1724457599@divercityscuba.ca
SUMMARY:Open Water Course at West Hawk
DESCRIPTION:Complete the Open Water course from day 1-4 all at West Hawk Lake – Register Here
URL:https://divercityscuba.ca/event/private-open-water-course/
LOCATION:West Hawk Lake
CATEGORIES:Courses,Fun events
END:VEVENT
BEGIN:VEVENT
DTSTART;TZID=America/Winnipeg:20240819T190000
DTEND;TZID=America/Winnipeg:20240819T210000
DTSTAMP:20260419T115615
CREATED:20240726T160528Z
LAST-MODIFIED:20240726T160528Z
UID:10002472-1724094000-1724101200@divercityscuba.ca
SUMMARY:Pool Session
DESCRIPTION:Pre-registration is required.
URL:https://divercityscuba.ca/event/pool-session-342/
LOCATION:Pan Am Pool\, 25 Poseidon Bay
CATEGORIES:Courses,Fun events
END:VEVENT
BEGIN:VEVENT
DTSTART;TZID=America/Winnipeg:20240818T083000
DTEND;TZID=America/Winnipeg:20240818T163000
DTSTAMP:20260419T115615
CREATED:20240816T181754Z
LAST-MODIFIED:20240816T181754Z
UID:10002490-1723969800-1723998600@divercityscuba.ca
SUMMARY:EFR Course
DESCRIPTION:Pre-registration is required. \nRegister HERE to join this course.
URL:https://divercityscuba.ca/event/efr-course-4/
LOCATION:Diver City Scuba\, 731 St. Mary's Rd\, Winnipeg\, MB\, Canada
CATEGORIES:Courses,Fun events
END:VEVENT
BEGIN:VEVENT
DTSTART;VALUE=DATE:20240817
DTEND;VALUE=DATE:20240819
DTSTAMP:20260419T115615
CREATED:20240726T153416Z
LAST-MODIFIED:20240726T153416Z
UID:10002467-1723852800-1724025599@divercityscuba.ca
SUMMARY:West Hawk Lake Training
DESCRIPTION:Deep Course – Register Here \nOpen Water Dives
URL:https://divercityscuba.ca/event/west-hawk-lake-training-13/
LOCATION:West Hawk Lake
CATEGORIES:Courses
END:VEVENT
BEGIN:VEVENT
DTSTART;TZID=America/Winnipeg:20240814T190000
DTEND;TZID=America/Winnipeg:20240814T210000
DTSTAMP:20260419T115615
CREATED:20240726T160434Z
LAST-MODIFIED:20240726T160434Z
UID:10002471-1723662000-1723669200@divercityscuba.ca
SUMMARY:Pool Session
DESCRIPTION:Pre-registration is required.
URL:https://divercityscuba.ca/event/pool-session-341/
LOCATION:Cindy Klassen Rec Centre\, 999 Sargent Ave\, Winnipeg
CATEGORIES:Courses,Fun events
END:VEVENT
BEGIN:VEVENT
DTSTART;TZID=America/Winnipeg:20240812T190000
DTEND;TZID=America/Winnipeg:20240812T210000
DTSTAMP:20260419T115615
CREATED:20240726T160201Z
LAST-MODIFIED:20240726T160201Z
UID:10002470-1723489200-1723496400@divercityscuba.ca
SUMMARY:Pool Session
DESCRIPTION:Pre-registration is required.
URL:https://divercityscuba.ca/event/pool-session-340/
LOCATION:Pan Am Pool\, 25 Poseidon Bay
CATEGORIES:Courses,Fun events
END:VEVENT
BEGIN:VEVENT
DTSTART;VALUE=DATE:20240810
DTEND;VALUE=DATE:20240812
DTSTAMP:20260419T115615
CREATED:20240726T151606Z
LAST-MODIFIED:20240726T152723Z
UID:10002466-1723248000-1723420799@divercityscuba.ca
SUMMARY:West Hawk Lake Training
DESCRIPTION:Open Water Course (Confined Water) – August 10-11 – Register Here \nPeak Performance Buoyancy – August 10 – Register Here
URL:https://divercityscuba.ca/event/west-hawk-lake-training-12/
LOCATION:West Hawk Lake
CATEGORIES:Courses
END:VEVENT
BEGIN:VEVENT
DTSTART;TZID=America/Winnipeg:20240807T190000
DTEND;TZID=America/Winnipeg:20240807T210000
DTSTAMP:20260419T115615
CREATED:20240726T155604Z
LAST-MODIFIED:20240726T155604Z
UID:10002469-1723057200-1723064400@divercityscuba.ca
SUMMARY:Pool Session
DESCRIPTION:Pre-registration is required.
URL:https://divercityscuba.ca/event/pool-session-339/
LOCATION:Cindy Klassen Rec Centre\, 999 Sargent Ave\, Winnipeg
CATEGORIES:Courses,Fun events
END:VEVENT
BEGIN:VEVENT
DTSTART;VALUE=DATE:20240805
DTEND;VALUE=DATE:20240806
DTSTAMP:20260419T115615
CREATED:20240205T210647Z
LAST-MODIFIED:20240205T210647Z
UID:10002403-1722816000-1722902399@divercityscuba.ca
SUMMARY:Shop Closed
DESCRIPTION:
URL:https://divercityscuba.ca/event/shop-closed-59/
END:VEVENT
BEGIN:VEVENT
DTSTART;TZID=America/Winnipeg:20240731T190000
DTEND;TZID=America/Winnipeg:20240731T213000
DTSTAMP:20260419T115615
CREATED:20240607T210239Z
LAST-MODIFIED:20240607T210239Z
UID:10002461-1722452400-1722461400@divercityscuba.ca
SUMMARY:Pool Session
DESCRIPTION:Pre-registration is required.
URL:https://divercityscuba.ca/event/pool-session-338/
LOCATION:Cindy Klassen Rec Centre\, 999 Sargent Ave\, Winnipeg
CATEGORIES:Courses,Fun events
END:VEVENT
BEGIN:VEVENT
DTSTART;TZID=America/Winnipeg:20240729T190000
DTEND;TZID=America/Winnipeg:20240729T213000
DTSTAMP:20260419T115615
CREATED:20240607T210126Z
LAST-MODIFIED:20240607T210126Z
UID:10002460-1722279600-1722288600@divercityscuba.ca
SUMMARY:Pool Session
DESCRIPTION:Pre-registration is required.
URL:https://divercityscuba.ca/event/pool-session-337/
LOCATION:Pan Am Pool\, 25 Poseidon Bay
CATEGORIES:Courses,Fun events
END:VEVENT
BEGIN:VEVENT
DTSTART;VALUE=DATE:20240727
DTEND;VALUE=DATE:20240729
DTSTAMP:20260419T115615
CREATED:20240726T151419Z
LAST-MODIFIED:20240726T151419Z
UID:10002465-1722038400-1722211199@divercityscuba.ca
SUMMARY:West Hawk Lake Training
DESCRIPTION:Pre-registration is required. \n  \nOpen Water Dives July 27-28
URL:https://divercityscuba.ca/event/west-hawk-lake-training-11/
LOCATION:West Hawk Lake
CATEGORIES:Courses
END:VEVENT
BEGIN:VEVENT
DTSTART;TZID=America/Winnipeg:20240724T190000
DTEND;TZID=America/Winnipeg:20240724T213000
DTSTAMP:20260419T115615
CREATED:20240607T210015Z
LAST-MODIFIED:20240607T210015Z
UID:10002459-1721847600-1721856600@divercityscuba.ca
SUMMARY:Pool Session
DESCRIPTION:Pre-registration is required.
URL:https://divercityscuba.ca/event/pool-session-336/
LOCATION:Cindy Klassen Rec Centre\, 999 Sargent Ave\, Winnipeg
CATEGORIES:Courses,Fun events
END:VEVENT
BEGIN:VEVENT
DTSTART;TZID=America/Winnipeg:20240722T190000
DTEND;TZID=America/Winnipeg:20240722T213000
DTSTAMP:20260419T115615
CREATED:20240607T204829Z
LAST-MODIFIED:20240607T204829Z
UID:10002458-1721674800-1721683800@divercityscuba.ca
SUMMARY:Pool Session
DESCRIPTION:Pre-registration is required.
URL:https://divercityscuba.ca/event/pool-session-335/
LOCATION:Pan Am Pool\, 25 Poseidon Bay
CATEGORIES:Courses,Fun events
END:VEVENT
BEGIN:VEVENT
DTSTART;TZID=America/Winnipeg:20240717T190000
DTEND;TZID=America/Winnipeg:20240717T210000
DTSTAMP:20260419T115615
CREATED:20240607T204547Z
LAST-MODIFIED:20240607T204547Z
UID:10002457-1721242800-1721250000@divercityscuba.ca
SUMMARY:Pool Session
DESCRIPTION:Pre-registration is required.
URL:https://divercityscuba.ca/event/pool-session-334/
LOCATION:Cindy Klassen Rec Centre\, 999 Sargent Ave\, Winnipeg
CATEGORIES:Courses,Fun events
END:VEVENT
BEGIN:VEVENT
DTSTART;TZID=America/Winnipeg:20240716T180000
DTEND;TZID=America/Winnipeg:20240716T210000
DTSTAMP:20260419T115615
CREATED:20240628T155216Z
LAST-MODIFIED:20240628T155216Z
UID:10002464-1721152800-1721163600@divercityscuba.ca
SUMMARY:Meet and Greet BBQ
DESCRIPTION:Come and join us from 6-9 PM at Diver City for a hot dog BBQ\, and an opportunity to make some new dive buddies. \nOpen to all!
URL:https://divercityscuba.ca/event/meet-and-greet-bbq-5/
LOCATION:Diver City Scuba\, 731 St. Mary's Rd\, Winnipeg\, MB\, Canada
CATEGORIES:Fun events
END:VEVENT
BEGIN:VEVENT
DTSTART;TZID=America/Winnipeg:20240715T190000
DTEND;TZID=America/Winnipeg:20240715T213000
DTSTAMP:20260419T115615
CREATED:20240607T204308Z
LAST-MODIFIED:20240607T204308Z
UID:10002456-1721070000-1721079000@divercityscuba.ca
SUMMARY:Pool Session
DESCRIPTION:Pre-registration is required.
URL:https://divercityscuba.ca/event/pool-session-333/
LOCATION:Pan Am Pool\, 25 Poseidon Bay
CATEGORIES:Courses,Fun events
END:VEVENT
BEGIN:VEVENT
DTSTART;TZID=America/Winnipeg:20240714T090000
DTEND;TZID=America/Winnipeg:20240714T150000
DTSTAMP:20260419T115615
CREATED:20240429T203941Z
LAST-MODIFIED:20240528T203552Z
UID:10002443-1720947600-1720969200@divercityscuba.ca
SUMMARY:Women's Dive Day
DESCRIPTION:We will celebrate PADI’s 10th annual Women’s dive day at West Hawk Lake. Everyone welcome.
URL:https://divercityscuba.ca/event/womens-dive-day-3/
CATEGORIES:Fun events
END:VEVENT
BEGIN:VEVENT
DTSTART;TZID=America/Winnipeg:20240713T090000
DTEND;TZID=America/Winnipeg:20240714T140000
DTSTAMP:20260419T115615
CREATED:20240607T210850Z
LAST-MODIFIED:20240607T210850Z
UID:10002462-1720861200-1720965600@divercityscuba.ca
SUMMARY:West Hawk Lake Training Weekend
DESCRIPTION:Advanced Open Water \nDrysuit Diver
URL:https://divercityscuba.ca/event/west-hawk-lake-training-weekend-6/
LOCATION:West Hawk Lake
CATEGORIES:Courses
END:VEVENT
END:VCALENDAR