BEGIN:VCALENDAR
VERSION:2.0
PRODID:-//Diver City SCUBA Inc. - ECPv6.15.20//NONSGML v1.0//EN
CALSCALE:GREGORIAN
METHOD:PUBLISH
X-WR-CALNAME:Diver City SCUBA Inc.
X-ORIGINAL-URL:https://divercityscuba.ca
X-WR-CALDESC:Events for Diver City SCUBA Inc.
REFRESH-INTERVAL;VALUE=DURATION:PT1H
X-Robots-Tag:noindex
X-PUBLISHED-TTL:PT1H
BEGIN:VTIMEZONE
TZID:America/Winnipeg
BEGIN:DAYLIGHT
TZOFFSETFROM:-0600
TZOFFSETTO:-0500
TZNAME:CDT
DTSTART:20230312T080000
END:DAYLIGHT
BEGIN:STANDARD
TZOFFSETFROM:-0500
TZOFFSETTO:-0600
TZNAME:CST
DTSTART:20231105T070000
END:STANDARD
BEGIN:DAYLIGHT
TZOFFSETFROM:-0600
TZOFFSETTO:-0500
TZNAME:CDT
DTSTART:20240310T080000
END:DAYLIGHT
BEGIN:STANDARD
TZOFFSETFROM:-0500
TZOFFSETTO:-0600
TZNAME:CST
DTSTART:20241103T070000
END:STANDARD
BEGIN:DAYLIGHT
TZOFFSETFROM:-0600
TZOFFSETTO:-0500
TZNAME:CDT
DTSTART:20250309T080000
END:DAYLIGHT
BEGIN:STANDARD
TZOFFSETFROM:-0500
TZOFFSETTO:-0600
TZNAME:CST
DTSTART:20251102T070000
END:STANDARD
BEGIN:DAYLIGHT
TZOFFSETFROM:-0600
TZOFFSETTO:-0500
TZNAME:CDT
DTSTART:20260308T080000
END:DAYLIGHT
BEGIN:STANDARD
TZOFFSETFROM:-0500
TZOFFSETTO:-0600
TZNAME:CST
DTSTART:20261101T070000
END:STANDARD
END:VTIMEZONE
BEGIN:VEVENT
DTSTART;TZID=America/Winnipeg:20241002T190000
DTEND;TZID=America/Winnipeg:20241002T210000
DTSTAMP:20260423T234652
CREATED:20240920T185832Z
LAST-MODIFIED:20240920T185832Z
UID:10002494-1727895600-1727902800@divercityscuba.ca
SUMMARY:Pool Session
DESCRIPTION:Pre-registration is required.
URL:https://divercityscuba.ca/event/pool-session-353/
LOCATION:Cindy Klassen Rec Centre\, 999 Sargent Ave\, Winnipeg
CATEGORIES:Courses
END:VEVENT
BEGIN:VEVENT
DTSTART;TZID=America/Winnipeg:20241007T190000
DTEND;TZID=America/Winnipeg:20241007T210000
DTSTAMP:20260423T234652
CREATED:20240920T185946Z
LAST-MODIFIED:20240920T185946Z
UID:10002495-1728327600-1728334800@divercityscuba.ca
SUMMARY:Pool Session
DESCRIPTION:Pre-registration is required.
URL:https://divercityscuba.ca/event/pool-session-354/
LOCATION:Pan Am Pool\, 25 Poseidon Bay
CATEGORIES:Courses
END:VEVENT
BEGIN:VEVENT
DTSTART;TZID=America/Winnipeg:20241016T190000
DTEND;TZID=America/Winnipeg:20241016T210000
DTSTAMP:20260423T234652
CREATED:20240920T190033Z
LAST-MODIFIED:20240920T190033Z
UID:10002496-1729105200-1729112400@divercityscuba.ca
SUMMARY:Pool Session
DESCRIPTION:Pre-registration is required.
URL:https://divercityscuba.ca/event/pool-session-355/
LOCATION:Cindy Klassen Rec Centre\, 999 Sargent Ave\, Winnipeg
CATEGORIES:Courses
END:VEVENT
BEGIN:VEVENT
DTSTART;TZID=America/Winnipeg:20241021T190000
DTEND;TZID=America/Winnipeg:20241021T210000
DTSTAMP:20260423T234652
CREATED:20240920T190140Z
LAST-MODIFIED:20240920T190140Z
UID:10002497-1729537200-1729544400@divercityscuba.ca
SUMMARY:Pool Session
DESCRIPTION:Pre-registration is required.
URL:https://divercityscuba.ca/event/pool-session-356/
LOCATION:Pan Am Pool\, 25 Poseidon Bay
CATEGORIES:Courses
END:VEVENT
BEGIN:VEVENT
DTSTART;TZID=America/Winnipeg:20241027T100000
DTEND;TZID=America/Winnipeg:20241027T150000
DTSTAMP:20260423T234652
CREATED:20240919T205931Z
LAST-MODIFIED:20240919T205931Z
UID:10002491-1730023200-1730041200@divercityscuba.ca
SUMMARY:Underwater Pumpkin Carving and Chili Cook-Off
DESCRIPTION:Join us for our annual Underwater Pumpkin Carving and Chili Cook-Off event at West Hawk Lake! \nAre you a SCUBA diver and planning to carve a pumpkin this Halloween?  Hang out with Diver City and you can combine those 2 things AND get a PADI certification that counts towards your Master Scuba Diver rating. \nYou can also join the event if you are already certified as an Underwater Pumpkin Carver! \nDon’t forget about the Chili Cook-Off… who will be the winner this year? \n  \nPre-registration is required for the course and the event.  Please contact us for further details.
URL:https://divercityscuba.ca/event/underwater-pumpkin-carving-and-chili-cook-off/
LOCATION:West Hawk Lake
CATEGORIES:Courses,Fun events
END:VEVENT
BEGIN:VEVENT
DTSTART;TZID=America/Winnipeg:20241028T190000
DTEND;TZID=America/Winnipeg:20241028T210000
DTSTAMP:20260423T234652
CREATED:20240920T190445Z
LAST-MODIFIED:20240920T190445Z
UID:10002498-1730142000-1730149200@divercityscuba.ca
SUMMARY:Pool Session
DESCRIPTION:Pre-registration is required.
URL:https://divercityscuba.ca/event/pool-session-357/
LOCATION:Pan Am Pool\, 25 Poseidon Bay
CATEGORIES:Courses
END:VEVENT
BEGIN:VEVENT
DTSTART;TZID=America/Winnipeg:20241104T190000
DTEND;TZID=America/Winnipeg:20241104T210000
DTSTAMP:20260423T234652
CREATED:20240920T190533Z
LAST-MODIFIED:20240920T190533Z
UID:10002499-1730746800-1730754000@divercityscuba.ca
SUMMARY:Pool Session
DESCRIPTION:Pre-registration is required.
URL:https://divercityscuba.ca/event/pool-session-358/
LOCATION:Pan Am Pool\, 25 Poseidon Bay
CATEGORIES:Courses
END:VEVENT
BEGIN:VEVENT
DTSTART;TZID=America/Winnipeg:20241113T190000
DTEND;TZID=America/Winnipeg:20241113T210000
DTSTAMP:20260423T234652
CREATED:20240920T190646Z
LAST-MODIFIED:20240920T190646Z
UID:10002500-1731524400-1731531600@divercityscuba.ca
SUMMARY:Pool Session
DESCRIPTION:Pre-registration is required.
URL:https://divercityscuba.ca/event/pool-session-359/
LOCATION:Cindy Klassen Rec Centre\, 999 Sargent Ave\, Winnipeg
CATEGORIES:Courses
END:VEVENT
BEGIN:VEVENT
DTSTART;TZID=America/Winnipeg:20241118T190000
DTEND;TZID=America/Winnipeg:20241118T210000
DTSTAMP:20260423T234652
CREATED:20240920T190731Z
LAST-MODIFIED:20240920T190731Z
UID:10002501-1731956400-1731963600@divercityscuba.ca
SUMMARY:Pool Session
DESCRIPTION:Pre-registration is required.
URL:https://divercityscuba.ca/event/pool-session-360/
LOCATION:Pan Am Pool\, 25 Poseidon Bay
CATEGORIES:Courses
END:VEVENT
BEGIN:VEVENT
DTSTART;TZID=America/Winnipeg:20241125T190000
DTEND;TZID=America/Winnipeg:20241125T210000
DTSTAMP:20260423T234652
CREATED:20240920T191027Z
LAST-MODIFIED:20240920T191027Z
UID:10002502-1732561200-1732568400@divercityscuba.ca
SUMMARY:Pool Session
DESCRIPTION:Pre-registration is required.
URL:https://divercityscuba.ca/event/pool-session-361/
LOCATION:Pan Am Pool\, 25 Poseidon Bay
CATEGORIES:Courses
END:VEVENT
BEGIN:VEVENT
DTSTART;TZID=America/Winnipeg:20241202T190000
DTEND;TZID=America/Winnipeg:20241202T210000
DTSTAMP:20260423T234652
CREATED:20240920T191351Z
LAST-MODIFIED:20240920T191351Z
UID:10002503-1733166000-1733173200@divercityscuba.ca
SUMMARY:Pool Session
DESCRIPTION:Pre-registration is required.
URL:https://divercityscuba.ca/event/pool-session-362/
LOCATION:Pan Am Pool\, 25 Poseidon Bay
CATEGORIES:Courses
END:VEVENT
BEGIN:VEVENT
DTSTART;TZID=America/Winnipeg:20241209T190000
DTEND;TZID=America/Winnipeg:20241209T210000
DTSTAMP:20260423T234652
CREATED:20240920T192554Z
LAST-MODIFIED:20240920T192554Z
UID:10002504-1733770800-1733778000@divercityscuba.ca
SUMMARY:Pool Session
DESCRIPTION:Pre-registration is required.
URL:https://divercityscuba.ca/event/pool-session-363/
LOCATION:Pan Am Pool\, 25 Poseidon Bay
CATEGORIES:Courses
END:VEVENT
BEGIN:VEVENT
DTSTART;TZID=America/Winnipeg:20241216T190000
DTEND;TZID=America/Winnipeg:20241216T210000
DTSTAMP:20260423T234652
CREATED:20240920T193207Z
LAST-MODIFIED:20240920T193207Z
UID:10002505-1734375600-1734382800@divercityscuba.ca
SUMMARY:Pool Session
DESCRIPTION:Pre-registration is required.
URL:https://divercityscuba.ca/event/pool-session-364/
LOCATION:Pan Am Pool\, 25 Poseidon Bay
CATEGORIES:Courses
END:VEVENT
BEGIN:VEVENT
DTSTART;TZID=America/Winnipeg:20241218T190000
DTEND;TZID=America/Winnipeg:20241218T210000
DTSTAMP:20260423T234652
CREATED:20240920T205647Z
LAST-MODIFIED:20240920T205647Z
UID:10002508-1734548400-1734555600@divercityscuba.ca
SUMMARY:Pool Session
DESCRIPTION:Pre-registration is required.
URL:https://divercityscuba.ca/event/pool-session-367/
LOCATION:Cindy Klassen Rec Centre\, 999 Sargent Ave\, Winnipeg
CATEGORIES:Courses
END:VEVENT
BEGIN:VEVENT
DTSTART;TZID=America/Winnipeg:20241223T190000
DTEND;TZID=America/Winnipeg:20241223T210000
DTSTAMP:20260423T234652
CREATED:20240920T193256Z
LAST-MODIFIED:20241218T002821Z
UID:10002506-1734980400-1734987600@divercityscuba.ca
SUMMARY:Pool Session
DESCRIPTION:Discover Scuba Diving – Register here \nOpen Water Course – Register here \nScuba Refresher – Register here \nReActivate – Register here \nSnorkeling – Register here \nPre-registration is required.
URL:https://divercityscuba.ca/event/pool-session-365/
LOCATION:Pan Am Pool\, 25 Poseidon Bay
CATEGORIES:Courses
END:VEVENT
BEGIN:VEVENT
DTSTART;TZID=America/Winnipeg:20241230T190000
DTEND;TZID=America/Winnipeg:20241230T210000
DTSTAMP:20260423T234652
CREATED:20240920T205556Z
LAST-MODIFIED:20241218T002726Z
UID:10002507-1735585200-1735592400@divercityscuba.ca
SUMMARY:Pool Session
DESCRIPTION:Discover Scuba Diving – Register here \nOpen Water Course – Register here \nScuba Refresher – Register here \nReActivate – Register here \nSnorkeling – Register here \nPre-registration is required.
URL:https://divercityscuba.ca/event/pool-session-366/
LOCATION:Pan Am Pool\, 25 Poseidon Bay
CATEGORIES:Courses
END:VEVENT
BEGIN:VEVENT
DTSTART;TZID=America/Winnipeg:20250618T190000
DTEND;TZID=America/Winnipeg:20250618T210000
DTSTAMP:20260423T234652
CREATED:20250617T174606Z
LAST-MODIFIED:20250617T174606Z
UID:10002547-1750273200-1750280400@divercityscuba.ca
SUMMARY:Pool Session
DESCRIPTION:Pre-registration is required. \nCall us at 204-257-2822 or email us at info@divercityscuba.ca to register! \n  \nCourses offered every pool session: Refresher\, ReActivate\, Snorkeling\, Discover Scuba Diving\, personalized skills sessions \nNext Open Water course starts June 30th\, 2025
URL:https://divercityscuba.ca/event/pool-session-385/
LOCATION:Cindy Klassen Rec Centre\, 999 Sargent Ave\, Winnipeg
CATEGORIES:Courses,Fun events
END:VEVENT
BEGIN:VEVENT
DTSTART;VALUE=DATE:20250621
DTEND;VALUE=DATE:20250623
DTSTAMP:20260423T234652
CREATED:20250617T180321Z
LAST-MODIFIED:20250625T200921Z
UID:10002558-1750464000-1750636799@divercityscuba.ca
SUMMARY:Lake Training
DESCRIPTION:Open Water Dives \nDrysuit Course \nAdvanced Open Water Course \nNitrox Course \n  \nPre-registration is required. \nCall us at 204-257-2822 or email us at info@divercityscuba.ca to register!
URL:https://divercityscuba.ca/event/lake-training-19/
LOCATION:West Hawk Lake
CATEGORIES:Courses
END:VEVENT
BEGIN:VEVENT
DTSTART;TZID=America/Winnipeg:20250625T190000
DTEND;TZID=America/Winnipeg:20250625T210000
DTSTAMP:20260423T234652
CREATED:20250617T174914Z
LAST-MODIFIED:20250617T174914Z
UID:10002549-1750878000-1750885200@divercityscuba.ca
SUMMARY:Pool Session
DESCRIPTION:Pre-registration is required. \nCall us at 204-257-2822 or email us at info@divercityscuba.ca to register! \n  \nCourses offered every pool session: Refresher\, ReActivate\, Snorkeling\, Discover Scuba Diving\, personalized skills sessions \nNext Open Water course starts June 30th\, 2025
URL:https://divercityscuba.ca/event/pool-session-387/
LOCATION:Cindy Klassen Rec Centre\, 999 Sargent Ave\, Winnipeg
CATEGORIES:Courses,Fun events
END:VEVENT
BEGIN:VEVENT
DTSTART;TZID=America/Winnipeg:20250630T190000
DTEND;TZID=America/Winnipeg:20250630T210000
DTSTAMP:20260423T234652
CREATED:20250617T174738Z
LAST-MODIFIED:20250617T174813Z
UID:10002548-1751310000-1751317200@divercityscuba.ca
SUMMARY:Pool Session
DESCRIPTION:Pre-registration is required. \nCall us at 204-257-2822 or email us at info@divercityscuba.ca to register! \n  \nCourses offered every pool session: Refresher\, ReActivate\, Snorkeling\, Discover Scuba Diving\, personalized skills sessions \nNext Open Water course starts June 30th\, 2025
URL:https://divercityscuba.ca/event/pool-session-386/
LOCATION:Pan Am Pool\, 25 Poseidon Bay
CATEGORIES:Courses,Fun events
END:VEVENT
BEGIN:VEVENT
DTSTART;TZID=America/Winnipeg:20250702T190000
DTEND;TZID=America/Winnipeg:20250702T210000
DTSTAMP:20260423T234652
CREATED:20250617T175134Z
LAST-MODIFIED:20250617T175503Z
UID:10002550-1751482800-1751490000@divercityscuba.ca
SUMMARY:Pool Session
DESCRIPTION:Pre-registration is required. \nCall us at 204-257-2822 or email us at info@divercityscuba.ca to register! \n  \nCourses offered every pool session: Refresher\, ReActivate\, Snorkeling\, Discover Scuba Diving\, personalized skills sessions \nNext Open Water course starts July 14th\, 2025
URL:https://divercityscuba.ca/event/pool-session-388/
LOCATION:Cindy Klassen Rec Centre\, 999 Sargent Ave\, Winnipeg
CATEGORIES:Courses,Fun events
END:VEVENT
BEGIN:VEVENT
DTSTART;VALUE=DATE:20250705
DTEND;VALUE=DATE:20250707
DTSTAMP:20260423T234652
CREATED:20250617T180427Z
LAST-MODIFIED:20250625T200749Z
UID:10002559-1751673600-1751846399@divercityscuba.ca
SUMMARY:Lake Training
DESCRIPTION:Open Water Dives \n  \nPre-registration is required. \nCall us at 204-257-2822 or email us at info@divercityscuba.ca to register!
URL:https://divercityscuba.ca/event/lake-training-20/
LOCATION:West Hawk Lake
CATEGORIES:Courses
END:VEVENT
BEGIN:VEVENT
DTSTART;VALUE=DATE:20250707
DTEND;VALUE=DATE:20250711
DTSTAMP:20260423T234652
CREATED:20250617T184306Z
LAST-MODIFIED:20250617T184306Z
UID:10002560-1751846400-1752191999@divercityscuba.ca
SUMMARY:Lake Training
DESCRIPTION:Open Water Course FULLY at West Hawk Lake \n  \nPre-registration is required. \nCall us at 204-257-2822 or email us at info@divercityscuba.ca to register!
URL:https://divercityscuba.ca/event/lake-training-21/
LOCATION:West Hawk Lake
CATEGORIES:Courses
END:VEVENT
BEGIN:VEVENT
DTSTART;TZID=America/Winnipeg:20250707T190000
DTEND;TZID=America/Winnipeg:20250707T210000
DTSTAMP:20260423T234652
CREATED:20250617T175250Z
LAST-MODIFIED:20250617T175533Z
UID:10002551-1751914800-1751922000@divercityscuba.ca
SUMMARY:Pool Session
DESCRIPTION:Pre-registration is required. \nCall us at 204-257-2822 or email us at info@divercityscuba.ca to register! \n  \nCourses offered every pool session: Refresher\, ReActivate\, Snorkeling\, Discover Scuba Diving\, personalized skills sessions \nNext Open Water course starts July 14th\, 2025
URL:https://divercityscuba.ca/event/pool-session-389/
LOCATION:Pan Am Pool\, 25 Poseidon Bay
CATEGORIES:Courses,Fun events
END:VEVENT
BEGIN:VEVENT
DTSTART;VALUE=DATE:20250712
DTEND;VALUE=DATE:20250714
DTSTAMP:20260423T234652
CREATED:20250617T184410Z
LAST-MODIFIED:20250617T184436Z
UID:10002561-1752278400-1752451199@divercityscuba.ca
SUMMARY:Lake Training
DESCRIPTION:Private Advanced Open Water Course \n  \nPre-registration is required. \nCall us at 204-257-2822 or email us at info@divercityscuba.ca to register!
URL:https://divercityscuba.ca/event/lake-training-22/
LOCATION:West Hawk Lake
CATEGORIES:Courses
END:VEVENT
BEGIN:VEVENT
DTSTART;TZID=America/Winnipeg:20250714T190000
DTEND;TZID=America/Winnipeg:20250714T210000
DTSTAMP:20260423T234652
CREATED:20250617T175429Z
LAST-MODIFIED:20250617T175429Z
UID:10002552-1752519600-1752526800@divercityscuba.ca
SUMMARY:Pool Session
DESCRIPTION:Pre-registration is required. \nCall us at 204-257-2822 or email us at info@divercityscuba.ca to register! \n  \nCourses offered every pool session: Refresher\, ReActivate\, Snorkeling\, Discover Scuba Diving\, personalized skills sessions \nNext Open Water course starts July 14th\, 2025
URL:https://divercityscuba.ca/event/pool-session-390/
LOCATION:Pan Am Pool\, 25 Poseidon Bay
CATEGORIES:Courses,Fun events
END:VEVENT
BEGIN:VEVENT
DTSTART;TZID=America/Winnipeg:20250716T190000
DTEND;TZID=America/Winnipeg:20250716T210000
DTSTAMP:20260423T234652
CREATED:20250617T175654Z
LAST-MODIFIED:20250617T175654Z
UID:10002553-1752692400-1752699600@divercityscuba.ca
SUMMARY:Pool Session
DESCRIPTION:Pre-registration is required. \nCall us at 204-257-2822 or email us at info@divercityscuba.ca to register! \n  \nCourses offered every pool session: Refresher\, ReActivate\, Snorkeling\, Discover Scuba Diving\, personalized skills sessions
URL:https://divercityscuba.ca/event/pool-session-391/
LOCATION:Cindy Klassen Rec Centre\, 999 Sargent Ave\, Winnipeg
CATEGORIES:Courses,Fun events
END:VEVENT
BEGIN:VEVENT
DTSTART;TZID=America/Winnipeg:20250721T190000
DTEND;TZID=America/Winnipeg:20250721T210000
DTSTAMP:20260423T234652
CREATED:20250617T175746Z
LAST-MODIFIED:20250617T175746Z
UID:10002554-1753124400-1753131600@divercityscuba.ca
SUMMARY:Pool Session
DESCRIPTION:Pre-registration is required. \nCall us at 204-257-2822 or email us at info@divercityscuba.ca to register! \n  \nCourses offered every pool session: Refresher\, ReActivate\, Snorkeling\, Discover Scuba Diving\, personalized skills sessions
URL:https://divercityscuba.ca/event/pool-session-392/
LOCATION:Pan Am Pool\, 25 Poseidon Bay
CATEGORIES:Courses,Fun events
END:VEVENT
BEGIN:VEVENT
DTSTART;TZID=America/Winnipeg:20250723T190000
DTEND;TZID=America/Winnipeg:20250723T210000
DTSTAMP:20260423T234652
CREATED:20250617T175840Z
LAST-MODIFIED:20250617T175840Z
UID:10002555-1753297200-1753304400@divercityscuba.ca
SUMMARY:Pool Session
DESCRIPTION:Pre-registration is required. \nCall us at 204-257-2822 or email us at info@divercityscuba.ca to register! \n  \nCourses offered every pool session: Refresher\, ReActivate\, Snorkeling\, Discover Scuba Diving\, personalized skills sessions
URL:https://divercityscuba.ca/event/pool-session-393/
LOCATION:Cindy Klassen Rec Centre\, 999 Sargent Ave\, Winnipeg
CATEGORIES:Courses,Fun events
END:VEVENT
BEGIN:VEVENT
DTSTART;VALUE=DATE:20250726
DTEND;VALUE=DATE:20250728
DTSTAMP:20260423T234652
CREATED:20250617T184526Z
LAST-MODIFIED:20250617T184526Z
UID:10002562-1753488000-1753660799@divercityscuba.ca
SUMMARY:Lake Training
DESCRIPTION:Advanced Open Water Course \nDrysuit Course \n  \nPre-registration is required. \nCall us at 204-257-2822 or email us at info@divercityscuba.ca to register!
URL:https://divercityscuba.ca/event/lake-training-23/
LOCATION:West Hawk Lake
CATEGORIES:Courses
END:VEVENT
END:VCALENDAR