BEGIN:VCALENDAR
VERSION:2.0
PRODID:-//Diver City SCUBA Inc. - ECPv6.15.20//NONSGML v1.0//EN
CALSCALE:GREGORIAN
METHOD:PUBLISH
X-WR-CALNAME:Diver City SCUBA Inc.
X-ORIGINAL-URL:https://divercityscuba.ca
X-WR-CALDESC:Events for Diver City SCUBA Inc.
REFRESH-INTERVAL;VALUE=DURATION:PT1H
X-Robots-Tag:noindex
X-PUBLISHED-TTL:PT1H
BEGIN:VTIMEZONE
TZID:America/Winnipeg
BEGIN:DAYLIGHT
TZOFFSETFROM:-0600
TZOFFSETTO:-0500
TZNAME:CDT
DTSTART:20230312T080000
END:DAYLIGHT
BEGIN:STANDARD
TZOFFSETFROM:-0500
TZOFFSETTO:-0600
TZNAME:CST
DTSTART:20231105T070000
END:STANDARD
BEGIN:DAYLIGHT
TZOFFSETFROM:-0600
TZOFFSETTO:-0500
TZNAME:CDT
DTSTART:20240310T080000
END:DAYLIGHT
BEGIN:STANDARD
TZOFFSETFROM:-0500
TZOFFSETTO:-0600
TZNAME:CST
DTSTART:20241103T070000
END:STANDARD
BEGIN:DAYLIGHT
TZOFFSETFROM:-0600
TZOFFSETTO:-0500
TZNAME:CDT
DTSTART:20250309T080000
END:DAYLIGHT
BEGIN:STANDARD
TZOFFSETFROM:-0500
TZOFFSETTO:-0600
TZNAME:CST
DTSTART:20251102T070000
END:STANDARD
END:VTIMEZONE
BEGIN:VEVENT
DTSTART;TZID=America/Winnipeg:20241027T100000
DTEND;TZID=America/Winnipeg:20241027T150000
DTSTAMP:20260425T054257
CREATED:20240919T205931Z
LAST-MODIFIED:20240919T205931Z
UID:10002491-1730023200-1730041200@divercityscuba.ca
SUMMARY:Underwater Pumpkin Carving and Chili Cook-Off
DESCRIPTION:Join us for our annual Underwater Pumpkin Carving and Chili Cook-Off event at West Hawk Lake! \nAre you a SCUBA diver and planning to carve a pumpkin this Halloween?  Hang out with Diver City and you can combine those 2 things AND get a PADI certification that counts towards your Master Scuba Diver rating. \nYou can also join the event if you are already certified as an Underwater Pumpkin Carver! \nDon’t forget about the Chili Cook-Off… who will be the winner this year? \n  \nPre-registration is required for the course and the event.  Please contact us for further details.
URL:https://divercityscuba.ca/event/underwater-pumpkin-carving-and-chili-cook-off/
LOCATION:West Hawk Lake
CATEGORIES:Courses,Fun events
END:VEVENT
END:VCALENDAR