BEGIN:VCALENDAR
VERSION:2.0
PRODID:-//Diver City SCUBA Inc. - ECPv6.15.20//NONSGML v1.0//EN
CALSCALE:GREGORIAN
METHOD:PUBLISH
X-WR-CALNAME:Diver City SCUBA Inc.
X-ORIGINAL-URL:https://divercityscuba.ca
X-WR-CALDESC:Events for Diver City SCUBA Inc.
REFRESH-INTERVAL;VALUE=DURATION:PT1H
X-Robots-Tag:noindex
X-PUBLISHED-TTL:PT1H
BEGIN:VTIMEZONE
TZID:America/Winnipeg
BEGIN:DAYLIGHT
TZOFFSETFROM:-0600
TZOFFSETTO:-0500
TZNAME:CDT
DTSTART:20240310T080000
END:DAYLIGHT
BEGIN:STANDARD
TZOFFSETFROM:-0500
TZOFFSETTO:-0600
TZNAME:CST
DTSTART:20241103T070000
END:STANDARD
BEGIN:DAYLIGHT
TZOFFSETFROM:-0600
TZOFFSETTO:-0500
TZNAME:CDT
DTSTART:20250309T080000
END:DAYLIGHT
BEGIN:STANDARD
TZOFFSETFROM:-0500
TZOFFSETTO:-0600
TZNAME:CST
DTSTART:20251102T070000
END:STANDARD
BEGIN:DAYLIGHT
TZOFFSETFROM:-0600
TZOFFSETTO:-0500
TZNAME:CDT
DTSTART:20260308T080000
END:DAYLIGHT
BEGIN:STANDARD
TZOFFSETFROM:-0500
TZOFFSETTO:-0600
TZNAME:CST
DTSTART:20261101T070000
END:STANDARD
END:VTIMEZONE
BEGIN:VEVENT
DTSTART;TZID=America/Winnipeg:20251001T190000
DTEND;TZID=America/Winnipeg:20251001T210000
DTSTAMP:20260419T175453
CREATED:20250922T223833Z
LAST-MODIFIED:20250922T223833Z
UID:10002912-1759345200-1759352400@divercityscuba.ca
SUMMARY:Pool Session
DESCRIPTION:Pre-registration is required. \nCall us at 204-257-2822 or email us at info@divercityscuba.ca to register! \n  \nCourses offered every pool session: Refresher\, ReActivate\, Snorkeling\, Discover Scuba Diving\, personalized skills sessions
URL:https://divercityscuba.ca/event/pool-session-408/2025-10-01/
LOCATION:Cindy Klassen Rec Centre\, 999 Sargent Ave\, Winnipeg
CATEGORIES:Courses,Fun events
END:VEVENT
BEGIN:VEVENT
DTSTART;VALUE=DATE:20251004
DTEND;VALUE=DATE:20251006
DTSTAMP:20260419T175453
CREATED:20250922T215939Z
LAST-MODIFIED:20250922T220124Z
UID:10002846-1759536000-1759708799@divercityscuba.ca
SUMMARY:Lake Training
DESCRIPTION:Open Water Dives \n  \nPre-registration is required. \nCall us at 204-257-2822 or email us at info@divercityscuba.ca to register!
URL:https://divercityscuba.ca/event/lake-training-27/2025-10-04/
LOCATION:West Hawk Lake
CATEGORIES:Courses
END:VEVENT
BEGIN:VEVENT
DTSTART;TZID=America/Winnipeg:20251006T190000
DTEND;TZID=America/Winnipeg:20251006T210000
DTSTAMP:20260419T175453
CREATED:20250919T190000Z
LAST-MODIFIED:20250919T190000Z
UID:10002581-1759777200-1759784400@divercityscuba.ca
SUMMARY:Pool Session
DESCRIPTION:Pre-registration is required. \nCall us at 204-257-2822 or email us at info@divercityscuba.ca to register! \nOpen Water course Starts \nCourses offered every pool session: Refresher\, ReActivate\, Snorkeling\, Discover Scuba Diving\, personalized skills sessions
URL:https://divercityscuba.ca/event/pool-session-406/
LOCATION:Pan Am Pool\, 25 Poseidon Bay
CATEGORIES:Courses,Fun events
END:VEVENT
BEGIN:VEVENT
DTSTART;TZID=America/Winnipeg:20251008T190000
DTEND;TZID=America/Winnipeg:20251008T210000
DTSTAMP:20260419T175453
CREATED:20250922T223833Z
LAST-MODIFIED:20250922T223833Z
UID:10002913-1759950000-1759957200@divercityscuba.ca
SUMMARY:Pool Session
DESCRIPTION:Pre-registration is required. \nCall us at 204-257-2822 or email us at info@divercityscuba.ca to register! \n  \nCourses offered every pool session: Refresher\, ReActivate\, Snorkeling\, Discover Scuba Diving\, personalized skills sessions
URL:https://divercityscuba.ca/event/pool-session-408/2025-10-08/
LOCATION:Cindy Klassen Rec Centre\, 999 Sargent Ave\, Winnipeg
CATEGORIES:Courses,Fun events
END:VEVENT
BEGIN:VEVENT
DTSTART;VALUE=DATE:20251011
DTEND;VALUE=DATE:20251013
DTSTAMP:20260419T175453
CREATED:20250922T215939Z
LAST-MODIFIED:20250922T220124Z
UID:10002847-1760140800-1760313599@divercityscuba.ca
SUMMARY:Lake Training
DESCRIPTION:Open Water Dives \n  \nPre-registration is required. \nCall us at 204-257-2822 or email us at info@divercityscuba.ca to register!
URL:https://divercityscuba.ca/event/lake-training-27/2025-10-11/
LOCATION:West Hawk Lake
CATEGORIES:Courses
END:VEVENT
BEGIN:VEVENT
DTSTART;TZID=America/Winnipeg:20251015T190000
DTEND;TZID=America/Winnipeg:20251015T210000
DTSTAMP:20260419T175453
CREATED:20250922T223833Z
LAST-MODIFIED:20250922T223833Z
UID:10002914-1760554800-1760562000@divercityscuba.ca
SUMMARY:Pool Session
DESCRIPTION:Pre-registration is required. \nCall us at 204-257-2822 or email us at info@divercityscuba.ca to register! \n  \nCourses offered every pool session: Refresher\, ReActivate\, Snorkeling\, Discover Scuba Diving\, personalized skills sessions
URL:https://divercityscuba.ca/event/pool-session-408/2025-10-15/
LOCATION:Cindy Klassen Rec Centre\, 999 Sargent Ave\, Winnipeg
CATEGORIES:Courses,Fun events
END:VEVENT
BEGIN:VEVENT
DTSTART;VALUE=DATE:20251018
DTEND;VALUE=DATE:20251020
DTSTAMP:20260419T175453
CREATED:20250922T215939Z
LAST-MODIFIED:20250922T220124Z
UID:10002848-1760745600-1760918399@divercityscuba.ca
SUMMARY:Lake Training
DESCRIPTION:Open Water Dives \n  \nPre-registration is required. \nCall us at 204-257-2822 or email us at info@divercityscuba.ca to register!
URL:https://divercityscuba.ca/event/lake-training-27/2025-10-18/
LOCATION:West Hawk Lake
CATEGORIES:Courses
END:VEVENT
BEGIN:VEVENT
DTSTART;TZID=America/Winnipeg:20251020T190000
DTEND;TZID=America/Winnipeg:20251020T210000
DTSTAMP:20260419T175453
CREATED:20250922T170451Z
LAST-MODIFIED:20250922T174219Z
UID:10002582-1760986800-1760994000@divercityscuba.ca
SUMMARY:Pool Session
DESCRIPTION:Pre-registration is required. \nCall us at 204-257-2822 or email us at info@divercityscuba.ca to register! \nOpen Water course Starts \nCourses offered every pool session: Refresher\, ReActivate\, Snorkeling\, Discover Scuba Diving\, personalized skills sessions
URL:https://divercityscuba.ca/event/pool-session-copy-3/
LOCATION:Pan Am Pool\, 25 Poseidon Bay
CATEGORIES:Courses,Fun events
END:VEVENT
BEGIN:VEVENT
DTSTART;TZID=America/Winnipeg:20251022T190000
DTEND;TZID=America/Winnipeg:20251022T210000
DTSTAMP:20260419T175453
CREATED:20250922T223833Z
LAST-MODIFIED:20250922T223833Z
UID:10002915-1761159600-1761166800@divercityscuba.ca
SUMMARY:Pool Session
DESCRIPTION:Pre-registration is required. \nCall us at 204-257-2822 or email us at info@divercityscuba.ca to register! \n  \nCourses offered every pool session: Refresher\, ReActivate\, Snorkeling\, Discover Scuba Diving\, personalized skills sessions
URL:https://divercityscuba.ca/event/pool-session-408/2025-10-22/
LOCATION:Cindy Klassen Rec Centre\, 999 Sargent Ave\, Winnipeg
CATEGORIES:Courses,Fun events
END:VEVENT
BEGIN:VEVENT
DTSTART;TZID=America/Winnipeg:20251027T190000
DTEND;TZID=America/Winnipeg:20251027T210000
DTSTAMP:20260419T175453
CREATED:20250922T174742Z
LAST-MODIFIED:20251227T211035Z
UID:10002583-1761591600-1761598800@divercityscuba.ca
SUMMARY:Pool Session
DESCRIPTION:Pre-registration is required. \nCall us at 204-257-2822 or email us at info@divercityscuba.ca to register! \nCourses offered every pool session: Refresher\, ReActivate\, Snorkeling\, Discover Scuba Diving\, personalized skills sessions
URL:https://divercityscuba.ca/event/pool-session-407/2025-10-27/
LOCATION:Pan Am Pool\, 25 Poseidon Bay
CATEGORIES:Courses,Fun events
END:VEVENT
BEGIN:VEVENT
DTSTART;TZID=America/Winnipeg:20251029T190000
DTEND;TZID=America/Winnipeg:20251029T210000
DTSTAMP:20260419T175453
CREATED:20250922T223833Z
LAST-MODIFIED:20250922T223833Z
UID:10002916-1761764400-1761771600@divercityscuba.ca
SUMMARY:Pool Session
DESCRIPTION:Pre-registration is required. \nCall us at 204-257-2822 or email us at info@divercityscuba.ca to register! \n  \nCourses offered every pool session: Refresher\, ReActivate\, Snorkeling\, Discover Scuba Diving\, personalized skills sessions
URL:https://divercityscuba.ca/event/pool-session-408/2025-10-29/
LOCATION:Cindy Klassen Rec Centre\, 999 Sargent Ave\, Winnipeg
CATEGORIES:Courses,Fun events
END:VEVENT
END:VCALENDAR