BEGIN:VCALENDAR
VERSION:2.0
PRODID:-//Diver City SCUBA Inc. - ECPv6.15.20//NONSGML v1.0//EN
CALSCALE:GREGORIAN
METHOD:PUBLISH
X-WR-CALNAME:Diver City SCUBA Inc.
X-ORIGINAL-URL:https://divercityscuba.ca
X-WR-CALDESC:Events for Diver City SCUBA Inc.
REFRESH-INTERVAL;VALUE=DURATION:PT1H
X-Robots-Tag:noindex
X-PUBLISHED-TTL:PT1H
BEGIN:VTIMEZONE
TZID:America/Winnipeg
BEGIN:DAYLIGHT
TZOFFSETFROM:-0600
TZOFFSETTO:-0500
TZNAME:CDT
DTSTART:20240310T080000
END:DAYLIGHT
BEGIN:STANDARD
TZOFFSETFROM:-0500
TZOFFSETTO:-0600
TZNAME:CST
DTSTART:20241103T070000
END:STANDARD
BEGIN:DAYLIGHT
TZOFFSETFROM:-0600
TZOFFSETTO:-0500
TZNAME:CDT
DTSTART:20250309T080000
END:DAYLIGHT
BEGIN:STANDARD
TZOFFSETFROM:-0500
TZOFFSETTO:-0600
TZNAME:CST
DTSTART:20251102T070000
END:STANDARD
BEGIN:DAYLIGHT
TZOFFSETFROM:-0600
TZOFFSETTO:-0500
TZNAME:CDT
DTSTART:20260308T080000
END:DAYLIGHT
BEGIN:STANDARD
TZOFFSETFROM:-0500
TZOFFSETTO:-0600
TZNAME:CST
DTSTART:20261101T070000
END:STANDARD
END:VTIMEZONE
BEGIN:VEVENT
DTSTART;VALUE=DATE:20250906
DTEND;VALUE=DATE:20250908
DTSTAMP:20260421T074247
CREATED:20250922T215939Z
LAST-MODIFIED:20250922T220124Z
UID:10002842-1757116800-1757289599@divercityscuba.ca
SUMMARY:Lake Training
DESCRIPTION:Open Water Dives \n  \nPre-registration is required. \nCall us at 204-257-2822 or email us at info@divercityscuba.ca to register!
URL:https://divercityscuba.ca/event/lake-training-27/2025-09-06/
LOCATION:West Hawk Lake
CATEGORIES:Courses
END:VEVENT
BEGIN:VEVENT
DTSTART;TZID=America/Winnipeg:20250908T190000
DTEND;TZID=America/Winnipeg:20250908T210000
DTSTAMP:20260421T074247
CREATED:20250919T184732Z
LAST-MODIFIED:20250919T184947Z
UID:10002577-1757358000-1757365200@divercityscuba.ca
SUMMARY:Pool Session
DESCRIPTION:Pre-registration is required. \nCall us at 204-257-2822 or email us at info@divercityscuba.ca to register! \n  \nCourses offered every pool session: Refresher\, ReActivate\, Snorkeling\, Discover Scuba Diving\, personalized skills sessions
URL:https://divercityscuba.ca/event/pool-session-copy-2/
LOCATION:Pan Am Pool\, 25 Poseidon Bay
CATEGORIES:Courses,Fun events
END:VEVENT
BEGIN:VEVENT
DTSTART;VALUE=DATE:20250913
DTEND;VALUE=DATE:20250915
DTSTAMP:20260421T074247
CREATED:20250922T215939Z
LAST-MODIFIED:20250922T220124Z
UID:10002843-1757721600-1757894399@divercityscuba.ca
SUMMARY:Lake Training
DESCRIPTION:Open Water Dives \n  \nPre-registration is required. \nCall us at 204-257-2822 or email us at info@divercityscuba.ca to register!
URL:https://divercityscuba.ca/event/lake-training-27/2025-09-13/
LOCATION:West Hawk Lake
CATEGORIES:Courses
END:VEVENT
BEGIN:VEVENT
DTSTART;TZID=America/Winnipeg:20250915T190000
DTEND;TZID=America/Winnipeg:20250915T210000
DTSTAMP:20260421T074247
CREATED:20250919T185244Z
LAST-MODIFIED:20250919T185244Z
UID:10002578-1757962800-1757970000@divercityscuba.ca
SUMMARY:Pool Session
DESCRIPTION:Pre-registration is required. \nCall us at 204-257-2822 or email us at info@divercityscuba.ca to register! \n  \nCourses offered every pool session: Refresher\, ReActivate\, Snorkeling\, Discover Scuba Diving\, personalized skills sessions
URL:https://divercityscuba.ca/event/pool-session-403/
LOCATION:Pan Am Pool\, 25 Poseidon Bay
CATEGORIES:Courses,Fun events
END:VEVENT
BEGIN:VEVENT
DTSTART;VALUE=DATE:20250920
DTEND;VALUE=DATE:20250922
DTSTAMP:20260421T074247
CREATED:20250922T215939Z
LAST-MODIFIED:20250922T220124Z
UID:10002844-1758326400-1758499199@divercityscuba.ca
SUMMARY:Lake Training
DESCRIPTION:Open Water Dives \n  \nPre-registration is required. \nCall us at 204-257-2822 or email us at info@divercityscuba.ca to register!
URL:https://divercityscuba.ca/event/lake-training-27/2025-09-20/
LOCATION:West Hawk Lake
CATEGORIES:Courses
END:VEVENT
BEGIN:VEVENT
DTSTART;TZID=America/Winnipeg:20250922T190000
DTEND;TZID=America/Winnipeg:20250922T210000
DTSTAMP:20260421T074247
CREATED:20250919T185348Z
LAST-MODIFIED:20250919T185348Z
UID:10002579-1758567600-1758574800@divercityscuba.ca
SUMMARY:Pool Session
DESCRIPTION:Pre-registration is required. \nCall us at 204-257-2822 or email us at info@divercityscuba.ca to register! \n  \nCourses offered every pool session: Refresher\, ReActivate\, Snorkeling\, Discover Scuba Diving\, personalized skills sessions
URL:https://divercityscuba.ca/event/pool-session-404/
LOCATION:Pan Am Pool\, 25 Poseidon Bay
CATEGORIES:Courses,Fun events
END:VEVENT
BEGIN:VEVENT
DTSTART;VALUE=DATE:20250927
DTEND;VALUE=DATE:20250929
DTSTAMP:20260421T074247
CREATED:20250922T215939Z
LAST-MODIFIED:20250922T220124Z
UID:10002845-1758931200-1759103999@divercityscuba.ca
SUMMARY:Lake Training
DESCRIPTION:Open Water Dives \n  \nPre-registration is required. \nCall us at 204-257-2822 or email us at info@divercityscuba.ca to register!
URL:https://divercityscuba.ca/event/lake-training-27/2025-09-27/
LOCATION:West Hawk Lake
CATEGORIES:Courses
END:VEVENT
BEGIN:VEVENT
DTSTART;TZID=America/Winnipeg:20250929T190000
DTEND;TZID=America/Winnipeg:20250929T210000
DTSTAMP:20260421T074247
CREATED:20250919T185449Z
LAST-MODIFIED:20250919T185543Z
UID:10002580-1759172400-1759179600@divercityscuba.ca
SUMMARY:Pool Session
DESCRIPTION:Pre-registration is required. \nCall us at 204-257-2822 or email us at info@divercityscuba.ca to register! \n  \nCourses offered every pool session: Refresher\, ReActivate\, Snorkeling\, Discover Scuba Diving\, personalized skills sessions
URL:https://divercityscuba.ca/event/pool-session-405/
LOCATION:Pan Am Pool\, 25 Poseidon Bay
CATEGORIES:Courses,Fun events
END:VEVENT
END:VCALENDAR