BEGIN:VCALENDAR
VERSION:2.0
PRODID:-//Diver City SCUBA Inc. - ECPv6.15.20//NONSGML v1.0//EN
CALSCALE:GREGORIAN
METHOD:PUBLISH
X-WR-CALNAME:Diver City SCUBA Inc.
X-ORIGINAL-URL:https://divercityscuba.ca
X-WR-CALDESC:Events for Diver City SCUBA Inc.
REFRESH-INTERVAL;VALUE=DURATION:PT1H
X-Robots-Tag:noindex
X-PUBLISHED-TTL:PT1H
BEGIN:VTIMEZONE
TZID:America/Winnipeg
BEGIN:DAYLIGHT
TZOFFSETFROM:-0600
TZOFFSETTO:-0500
TZNAME:CDT
DTSTART:20240310T080000
END:DAYLIGHT
BEGIN:STANDARD
TZOFFSETFROM:-0500
TZOFFSETTO:-0600
TZNAME:CST
DTSTART:20241103T070000
END:STANDARD
BEGIN:DAYLIGHT
TZOFFSETFROM:-0600
TZOFFSETTO:-0500
TZNAME:CDT
DTSTART:20250309T080000
END:DAYLIGHT
BEGIN:STANDARD
TZOFFSETFROM:-0500
TZOFFSETTO:-0600
TZNAME:CST
DTSTART:20251102T070000
END:STANDARD
BEGIN:DAYLIGHT
TZOFFSETFROM:-0600
TZOFFSETTO:-0500
TZNAME:CDT
DTSTART:20260308T080000
END:DAYLIGHT
BEGIN:STANDARD
TZOFFSETFROM:-0500
TZOFFSETTO:-0600
TZNAME:CST
DTSTART:20261101T070000
END:STANDARD
END:VTIMEZONE
BEGIN:VEVENT
DTSTART;TZID=America/Winnipeg:20250806T190000
DTEND;TZID=America/Winnipeg:20250806T210000
DTSTAMP:20260421T090036
CREATED:20250625T154428Z
LAST-MODIFIED:20250625T154428Z
UID:10002563-1754506800-1754514000@divercityscuba.ca
SUMMARY:Pool Session
DESCRIPTION:Pre-registration is required. \nCall us at 204-257-2822 or email us at info@divercityscuba.ca to register! \n  \nCourses offered every pool session: Refresher\, ReActivate\, Snorkeling\, Discover Scuba Diving\, personalized skills sessions
URL:https://divercityscuba.ca/event/pool-session-396/
LOCATION:Cindy Klassen Rec Centre\, 999 Sargent Ave\, Winnipeg
CATEGORIES:Courses,Fun events
END:VEVENT
BEGIN:VEVENT
DTSTART;VALUE=DATE:20250809
DTEND;VALUE=DATE:20250811
DTSTAMP:20260421T090036
CREATED:20250625T195554Z
LAST-MODIFIED:20250625T195554Z
UID:10002574-1754697600-1754870399@divercityscuba.ca
SUMMARY:Lake Training
DESCRIPTION:Open Water Dives \n  \nPre-registration is required. \nCall us at 204-257-2822 or email us at info@divercityscuba.ca to register!
URL:https://divercityscuba.ca/event/lake-training-24/
LOCATION:West Hawk Lake
CATEGORIES:Courses
END:VEVENT
BEGIN:VEVENT
DTSTART;TZID=America/Winnipeg:20250811T190000
DTEND;TZID=America/Winnipeg:20250811T210000
DTSTAMP:20260421T090036
CREATED:20250625T184407Z
LAST-MODIFIED:20250625T184407Z
UID:10002564-1754938800-1754946000@divercityscuba.ca
SUMMARY:Pool Session
DESCRIPTION:Pre-registration is required. \nCall us at 204-257-2822 or email us at info@divercityscuba.ca to register! \n  \nCourses offered every pool session: Refresher\, ReActivate\, Snorkeling\, Discover Scuba Diving\, personalized skills sessions
URL:https://divercityscuba.ca/event/pool-session-397/
LOCATION:Pan Am Pool\, 25 Poseidon Bay
CATEGORIES:Courses,Fun events
END:VEVENT
BEGIN:VEVENT
DTSTART;TZID=America/Winnipeg:20250813T190000
DTEND;TZID=America/Winnipeg:20250813T210000
DTSTAMP:20260421T090036
CREATED:20250625T184545Z
LAST-MODIFIED:20250625T184545Z
UID:10002565-1755111600-1755118800@divercityscuba.ca
SUMMARY:Pool Session
DESCRIPTION:Pre-registration is required. \nCall us at 204-257-2822 or email us at info@divercityscuba.ca to register! \n  \nCourses offered every pool session: Refresher\, ReActivate\, Snorkeling\, Discover Scuba Diving\, personalized skills sessions
URL:https://divercityscuba.ca/event/pool-session-398/
LOCATION:Cindy Klassen Rec Centre\, 999 Sargent Ave\, Winnipeg
CATEGORIES:Courses,Fun events
END:VEVENT
BEGIN:VEVENT
DTSTART;VALUE=DATE:20250816
DTEND;VALUE=DATE:20250818
DTSTAMP:20260421T090036
CREATED:20250625T200252Z
LAST-MODIFIED:20250625T200252Z
UID:10002575-1755302400-1755475199@divercityscuba.ca
SUMMARY:Lake Training
DESCRIPTION:Confined Water Dives (Open Water Course) – Open Water Dives are held August 23-24 for this course \n  \nPre-registration is required. \nCall us at 204-257-2822 or email us at info@divercityscuba.ca to register!
URL:https://divercityscuba.ca/event/lake-training-25/
LOCATION:West Hawk Lake
CATEGORIES:Courses
END:VEVENT
BEGIN:VEVENT
DTSTART;TZID=America/Winnipeg:20250818T190000
DTEND;TZID=America/Winnipeg:20250818T210000
DTSTAMP:20260421T090036
CREATED:20250625T184742Z
LAST-MODIFIED:20250625T184742Z
UID:10002566-1755543600-1755550800@divercityscuba.ca
SUMMARY:Pool Session
DESCRIPTION:Pre-registration is required. \nCall us at 204-257-2822 or email us at info@divercityscuba.ca to register! \n  \nCourses offered every pool session: Refresher\, ReActivate\, Snorkeling\, Discover Scuba Diving\, personalized skills sessions
URL:https://divercityscuba.ca/event/pool-session-399/
LOCATION:Pan Am Pool\, 25 Poseidon Bay
CATEGORIES:Courses,Fun events
END:VEVENT
BEGIN:VEVENT
DTSTART;TZID=America/Winnipeg:20250820T190000
DTEND;TZID=America/Winnipeg:20250820T210000
DTSTAMP:20260421T090036
CREATED:20250625T184844Z
LAST-MODIFIED:20250625T184844Z
UID:10002567-1755716400-1755723600@divercityscuba.ca
SUMMARY:Pool Session
DESCRIPTION:Pre-registration is required. \nCall us at 204-257-2822 or email us at info@divercityscuba.ca to register! \n  \nCourses offered every pool session: Refresher\, ReActivate\, Snorkeling\, Discover Scuba Diving\, personalized skills sessions
URL:https://divercityscuba.ca/event/pool-session-400/
LOCATION:Cindy Klassen Rec Centre\, 999 Sargent Ave\, Winnipeg
CATEGORIES:Courses,Fun events
END:VEVENT
BEGIN:VEVENT
DTSTART;VALUE=DATE:20250823
DTEND;VALUE=DATE:20250825
DTSTAMP:20260421T090036
CREATED:20250625T200407Z
LAST-MODIFIED:20250625T200407Z
UID:10002576-1755907200-1756079999@divercityscuba.ca
SUMMARY:Lake Training
DESCRIPTION:Open Water Dives \n  \nPre-registration is required. \nCall us at 204-257-2822 or email us at info@divercityscuba.ca to register!
URL:https://divercityscuba.ca/event/lake-training-26/
LOCATION:West Hawk Lake
CATEGORIES:Courses
END:VEVENT
BEGIN:VEVENT
DTSTART;TZID=America/Winnipeg:20250825T190000
DTEND;TZID=America/Winnipeg:20250825T210000
DTSTAMP:20260421T090036
CREATED:20250625T185005Z
LAST-MODIFIED:20250625T185005Z
UID:10002568-1756148400-1756155600@divercityscuba.ca
SUMMARY:Pool Session
DESCRIPTION:Pre-registration is required. \nCall us at 204-257-2822 or email us at info@divercityscuba.ca to register! \n  \nCourses offered every pool session: Refresher\, ReActivate\, Snorkeling\, Discover Scuba Diving\, personalized skills sessions
URL:https://divercityscuba.ca/event/pool-session-401/
LOCATION:Pan Am Pool\, 25 Poseidon Bay
CATEGORIES:Courses,Fun events
END:VEVENT
BEGIN:VEVENT
DTSTART;TZID=America/Winnipeg:20250827T190000
DTEND;TZID=America/Winnipeg:20250827T210000
DTSTAMP:20260421T090037
CREATED:20250625T185140Z
LAST-MODIFIED:20250625T185140Z
UID:10002569-1756321200-1756328400@divercityscuba.ca
SUMMARY:Pool Session
DESCRIPTION:Pre-registration is required. \nCall us at 204-257-2822 or email us at info@divercityscuba.ca to register! \n  \nCourses offered every pool session: Refresher\, ReActivate\, Snorkeling\, Discover Scuba Diving\, personalized skills sessions
URL:https://divercityscuba.ca/event/pool-session-402/
LOCATION:Cindy Klassen Rec Centre\, 999 Sargent Ave\, Winnipeg
CATEGORIES:Courses,Fun events
END:VEVENT
END:VCALENDAR